BEGIN:VCALENDAR
VERSION:2.0
PRODID:-//EndÖ - Endometriose Österreich - ECPv6.15.20//NONSGML v1.0//EN
CALSCALE:GREGORIAN
METHOD:PUBLISH
X-WR-CALNAME:EndÖ - Endometriose Österreich
X-ORIGINAL-URL:https://endometriose-oesterreich.at/en/
X-WR-CALDESC:Events for EndÖ - Endometriose Österreich
REFRESH-INTERVAL;VALUE=DURATION:PT1H
X-Robots-Tag:noindex
X-PUBLISHED-TTL:PT1H
BEGIN:VTIMEZONE
TZID:Europe/Vienna
BEGIN:DAYLIGHT
TZOFFSETFROM:+0100
TZOFFSETTO:+0200
TZNAME:CEST
DTSTART:20250330T010000
END:DAYLIGHT
BEGIN:STANDARD
TZOFFSETFROM:+0200
TZOFFSETTO:+0100
TZNAME:CET
DTSTART:20251026T010000
END:STANDARD
BEGIN:DAYLIGHT
TZOFFSETFROM:+0100
TZOFFSETTO:+0200
TZNAME:CEST
DTSTART:20260329T010000
END:DAYLIGHT
BEGIN:STANDARD
TZOFFSETFROM:+0200
TZOFFSETTO:+0100
TZNAME:CET
DTSTART:20261025T010000
END:STANDARD
BEGIN:DAYLIGHT
TZOFFSETFROM:+0100
TZOFFSETTO:+0200
TZNAME:CEST
DTSTART:20270328T010000
END:DAYLIGHT
BEGIN:STANDARD
TZOFFSETFROM:+0200
TZOFFSETTO:+0100
TZNAME:CET
DTSTART:20271031T010000
END:STANDARD
END:VTIMEZONE
BEGIN:VEVENT
DTSTART;TZID=Europe/Vienna:20261006T180000
DTEND;TZID=Europe/Vienna:20261006T200000
DTSTAMP:20260422T114140
CREATED:20260110T222027Z
LAST-MODIFIED:20260110T222027Z
UID:8290-1791309600-1791316800@endometriose-oesterreich.at
SUMMARY:Self-help group EndoPower.Wien on 6 October 2026
DESCRIPTION:We meet every month on Tuesday at 6.00 pm.\n \nDuration: approx. 2 hours \nMeeting point is – unless otherwise stated: @thesocialhub at 1020 Nordbahnstraße 47 \n📍 Venues\, or last-minute changes may occur at any time regarding each event\, here and on the website announced. \n📧Please register via email at: endopower.wien@gmail.com \n💭 “Talking about it helps”. You aren’t alone! 🫂 \n🔗 https://endopower-wien.at/ \n🎗️Insta: @ endopower.wien
URL:https://endometriose-oesterreich.at/en/event/self-help-group-endopower-wien-on-6-october-2026/
CATEGORIES:Others Self-help groups Dates
END:VEVENT
BEGIN:VEVENT
DTSTART;TZID=Europe/Vienna:20261008T180000
DTEND;TZID=Europe/Vienna:20261008T193000
DTSTAMP:20260422T114140
CREATED:20251116T095557Z
LAST-MODIFIED:20251116T095557Z
UID:8289-1791482400-1791487800@endometriose-oesterreich.at
SUMMARY:Networking event for relatives on 8 October 2026
DESCRIPTION:Our online support group meetings for relatives of endometriosis and adenomyosis sufferers focus on the exchange of concerns\, problems but also helpful approaches and successes. Every contribution is valuable! You have the opportunity to ask questions and share your personal story. Take this opportunity to talk about anything that’s on your mind. \nPlease consider your registration binding! If you can’t attend after all\, please let us know in good time.
URL:https://endometriose-oesterreich.at/en/event/networking-event-for-relatives-on-8-october-2026/
LOCATION:Online
CATEGORIES:EndÖ End
END:VEVENT
BEGIN:VEVENT
DTSTART;TZID=Europe/Vienna:20261014T180000
DTEND;TZID=Europe/Vienna:20261014T193000
DTSTAMP:20260422T114140
CREATED:20251116T082919Z
LAST-MODIFIED:20251116T082919Z
UID:8288-1792000800-1792006200@endometriose-oesterreich.at
SUMMARY:Support group meeting for those affected on 14 October 2026
DESCRIPTION:Our online peer support meetings for people affected by endometriosis and adenomyosis focus on sharing worries and challenges\, as well as helpful approaches and successes. Every contribution is valuable! You have the opportunity to ask questions and share your personal story. Take this opportunity to talk about anything that’s on your mind. \nPlease consider your registration binding! If you can’t attend after all\, please let us know in good time.
URL:https://endometriose-oesterreich.at/en/event/support-group-meeting-for-those-affected-on-14-october-2026/
LOCATION:Online
CATEGORIES:EndÖ End
END:VEVENT
BEGIN:VEVENT
DTSTART;TZID=Europe/Vienna:20261022T180000
DTEND;TZID=Europe/Vienna:20261022T193000
DTSTAMP:20260422T114140
CREATED:20260222T075546Z
LAST-MODIFIED:20260222T075546Z
UID:8287-1792692000-1792697400@endometriose-oesterreich.at
SUMMARY:Talk with workshop: Strong despite endometriosis – self-care & mental strategies for a better quality of life on 22 October 2026
DESCRIPTION:Referentin: Annika Kneidinger\, Psychosoziale Beraterin in Ausbildung unter Supervision \nStrong despite endometriosis – self-care & mental strategies for a better quality of life. Endometriosis takes a toll not only physically\, but also emotionally. In diesem Workshop geht es darum\, wieder gut für dich selbst zu sorgen\, ohne schlechtes Gewissen. You’ll gain insights into how to build your mental resilience\, make the most of your resources in everyday life\, and treat yourself with more kindness. To conclude accompanies you on a guided imagery journey to your “safe place”\, a moment of peace\, which reminds you that You are allowed to let go and draw new strength. \n\n\nAbout the speaker: \nI am Annika\, psychosocial counsellor in training under supervision and part of the team at EndÖ\, where I am currently also completing my work placement. I know\, how it feels\, when your own body no longer cooperates\, when pain becomes part of everyday life and one loses oneself somewhere along the way . I live with endometriosis and adenomyosis\, two diagnoses that are not only physical\, but also emotionally demanding. \nBut I was able to find out\, just how much one can change\, when one sees\, hears and is lovingly supported by others. With the help of my own advisor I have learned again\, to listen to myself\, to my gut feeling and to trust it my life according to my needs to shape.
URL:https://endometriose-oesterreich.at/en/event/talk-with-workshop-strong-despite-endometriosis-self-care-mental-strategies-for-a-better-quality-of-life-on-22-october-2026/
LOCATION:Online
CATEGORIES:EndÖ End
END:VEVENT
END:VCALENDAR