BEGIN:VCALENDAR
VERSION:2.0
PRODID:-//EndÖ - Endometriose Österreich - ECPv6.15.20//NONSGML v1.0//EN
CALSCALE:GREGORIAN
METHOD:PUBLISH
X-WR-CALNAME:EndÖ - Endometriose Österreich
X-ORIGINAL-URL:https://endometriose-oesterreich.at/en/
X-WR-CALDESC:Events for EndÖ - Endometriose Österreich
REFRESH-INTERVAL;VALUE=DURATION:PT1H
X-Robots-Tag:noindex
X-PUBLISHED-TTL:PT1H
BEGIN:VTIMEZONE
TZID:Europe/Vienna
BEGIN:DAYLIGHT
TZOFFSETFROM:+0100
TZOFFSETTO:+0200
TZNAME:CEST
DTSTART:20250330T010000
END:DAYLIGHT
BEGIN:STANDARD
TZOFFSETFROM:+0200
TZOFFSETTO:+0100
TZNAME:CET
DTSTART:20251026T010000
END:STANDARD
BEGIN:DAYLIGHT
TZOFFSETFROM:+0100
TZOFFSETTO:+0200
TZNAME:CEST
DTSTART:20260329T010000
END:DAYLIGHT
BEGIN:STANDARD
TZOFFSETFROM:+0200
TZOFFSETTO:+0100
TZNAME:CET
DTSTART:20261025T010000
END:STANDARD
BEGIN:DAYLIGHT
TZOFFSETFROM:+0100
TZOFFSETTO:+0200
TZNAME:CEST
DTSTART:20270328T010000
END:DAYLIGHT
BEGIN:STANDARD
TZOFFSETFROM:+0200
TZOFFSETTO:+0100
TZNAME:CET
DTSTART:20271031T010000
END:STANDARD
END:VTIMEZONE
BEGIN:VEVENT
DTSTART;TZID=Europe/Vienna:20260617T180000
DTEND;TZID=Europe/Vienna:20260617T193000
DTSTAMP:20260422T234906
CREATED:20260413T194417Z
LAST-MODIFIED:20260413T194417Z
UID:8277-1781719200-1781724600@endometriose-oesterreich.at
SUMMARY:Workshop: Pelvic floor feeling & understanding on 17 June 2026
DESCRIPTION:Speaker: Christina Hopf\, pelvic floor specialist and yoga teacher \nIn this workshop\, you will have the opportunity to discover your pelvic floor in a new\, gentle way to discover.\nYou will learn about its structure and\, understand its role in posture\, stability and well-being and receive practical guidance\, such as how you can achieve mindful awareness\, breathing and gentle movements can support it.\nIn addition to the theory and the exercises there is also space for exchange\, reflection and your personal experiences.\nA workshop\, which strengthens body awareness\, inner connection and self-care.\nNo prior knowledge is required. \nPlease prepare the following for the workshop:\n– Comfortable clothing\n– a mat or armchair\n(the practical. exercises can be performed either on a mat or in a chair while sitting performed) \nMy name is Christina\, a pelvic floor specialist and yoga teacher.\nFour years ago I launched my passion project into life\, feeling into life called to support women in every stage of life with gentle pelvic floor yoga and targeted pelvic floor training to support. \nMy journey is a personal one: Through my own experience with vaginismus I have learnt\, how crucial bodywork\, conscious breathing and mindfulness are crucial for the connection to own body and pelvic floor to rediscover. Today it is my mission to bring the pelvic floor out of the taboo zone and make it and make it forwomen once again tangible and visible to make. \nInstagram:\n@im.gefuehl \nFacebook:\nIn.Feeling \nWebsite: www.im-gefuehl.at \n  \n  \n  \n 
URL:https://endometriose-oesterreich.at/en/event/workshop-pelvic-floor-feeling-understanding-on-17-june-2026/
LOCATION:Online
CATEGORIES:EndÖ End
END:VEVENT
BEGIN:VEVENT
DTSTART;TZID=Europe/Vienna:20260618T180000
DTEND;TZID=Europe/Vienna:20260618T193000
DTSTAMP:20260422T234906
CREATED:20251116T082014Z
LAST-MODIFIED:20251116T082014Z
UID:8278-1781805600-1781811000@endometriose-oesterreich.at
SUMMARY:Support group meeting for those affected on 18 June 2026
DESCRIPTION:Our online peer support meetings for people affected by endometriosis and adenomyosis focus on sharing worries and challenges\, as well as helpful approaches and successes. Every contribution is valuable! You have the opportunity to ask questions and share your personal story. Take this opportunity to talk about anything that’s on your mind. \nPlease consider your registration binding! If you can’t attend after all\, please let us know in good time.
URL:https://endometriose-oesterreich.at/en/event/support-group-meeting-for-those-affected-on-18-june-2026/
LOCATION:Online
CATEGORIES:EndÖ End
END:VEVENT
BEGIN:VEVENT
DTSTART;TZID=Europe/Vienna:20260724T180000
DTEND;TZID=Europe/Vienna:20260724T193000
DTSTAMP:20260422T234906
CREATED:20251116T082400Z
LAST-MODIFIED:20260421T184919Z
UID:8279-1784916000-1784921400@endometriose-oesterreich.at
SUMMARY:Support group meeting for those affected on 24 July 2026
DESCRIPTION:Our online peer support meetings for people affected by endometriosis and adenomyosis focus on sharing worries and challenges\, as well as helpful approaches and successes. Every contribution is valuable! You have the opportunity to ask questions and share your personal story. Take this opportunity to talk about anything that’s on your mind. \nPlease consider your registration binding! If you can’t attend after all\, please let us know in good time.
URL:https://endometriose-oesterreich.at/en/event/support-group-meeting-for-those-affected-on-24-july-2026/
LOCATION:Online
CATEGORIES:EndÖ End
END:VEVENT
BEGIN:VEVENT
DTSTART;TZID=Europe/Vienna:20260804T180000
DTEND;TZID=Europe/Vienna:20260804T200000
DTSTAMP:20260422T234906
CREATED:20260110T221855Z
LAST-MODIFIED:20260110T221855Z
UID:8280-1785866400-1785873600@endometriose-oesterreich.at
SUMMARY:Self-help group EndoPower.Wien on 4 August 2026
DESCRIPTION:We meet every month on Tuesday at 6.00 pm.\n \nDuration: approx. 2 hours \nMeeting point is – unless otherwise stated: @thesocialhub at 1020 Nordbahnstraße 47 \n📍 Venues\, or last-minute changes may occur at any time regarding each event\, here and on the website announced. \n📧Please register via email at: endopower.wien@gmail.com \n💭 “Talking about it helps”. You aren’t alone! 🫂 \n🔗 https://endopower-wien.at/ \n🎗️Insta: @ endopower.wien
URL:https://endometriose-oesterreich.at/en/event/self-help-group-endopower-wien-on-4-august-2026/
CATEGORIES:Others Self-help groups Dates
END:VEVENT
BEGIN:VEVENT
DTSTART;TZID=Europe/Vienna:20260818T200000
DTEND;TZID=Europe/Vienna:20260818T213000
DTSTAMP:20260422T234906
CREATED:20260319T223604Z
LAST-MODIFIED:20260319T223604Z
UID:8282-1787083200-1787088600@endometriose-oesterreich.at
SUMMARY:Talk with practical session: ENDOYOGA® experience – feel\, accept\, let go. on 18 August 2026
DESCRIPTION:ENDOYOGA® Talk and yoga session (60 mins) – in total. Ninety minutes \nSpeaker: Jasmin Scheffler \nIn this online talk you’ll gain an insight into the concept of ENDOYOGA – a gentle\, body-centred form of yoga\, which is specifically designed for people with endometriosis and other discomforts during the menstrual cycle has been developed. ENDOYOGA helps you to\, become more mindful of yourself\, physical and emotional tensions to accept and step by step let go. \nNach dem kurzen Vortrag über die Wirkweise und Hintergründe von ENDOYOGA wirst du eingeladen\, gemeinsam eine 60-minütige Yogaeinheit zu erleben. The focus is here on relief\, self-care and a loving approach to your body. \nWhat you need for your yoga session:\n(Please prepare yourself before the lecture) \n– a non-slip mat / yoga mat\n– comfortable clothing\n– something to drink / Tea\n– a quiet place\, where you can be undisturbed \nThe event will take place online via Zoom on – you can take part in a relaxed manner from the comfort of your own home at home. No prior knowledge of yoga is required for the yoga session. You can take part as a beginner or as an already experienced yogini. \nAbout the speaker:\nI am Jasmin Scheffler – Founder of Livija – your space for yoga and coaching in Hamburg. Als zertifizierte Yoga- und ENDOYOGA-Lehrerin sowie Sozialpädagogin begleite ich Menschen mit Endometriose und alle\, die sich nach mehr innerere Freiheit sehnen. Mit Herz und einem ganzheitlichen Blick arbeite ich mit Vinyasa Yoga\, sanften Yogaeinheiten und ENDOYOGA® und begleite Menschen im Rahmen eines Coachings. My aim is to spaces in which you can feel yourself again and your body with love perceive and find your way back to your strength again can. \nI am looking forward to meeting to meet you at the lecture and to see you on your journey a12> bit along your journey accompany you may. \nWith love\, Jasmin
URL:https://endometriose-oesterreich.at/en/event/talk-with-practical-session-endoyoga-experience-feel-accept-let-go-on-18-august-2026/
LOCATION:Online
CATEGORIES:EndÖ End
END:VEVENT
BEGIN:VEVENT
DTSTART;TZID=Europe/Vienna:20260824T180000
DTEND;TZID=Europe/Vienna:20260824T193000
DTSTAMP:20260422T234906
CREATED:20251116T082550Z
LAST-MODIFIED:20251116T082550Z
UID:8283-1787594400-1787599800@endometriose-oesterreich.at
SUMMARY:Support group meeting for those affected on 24 August 2026
DESCRIPTION:Our online peer support meetings for people affected by endometriosis and adenomyosis focus on sharing worries and challenges\, as well as helpful approaches and successes. Every contribution is valuable! You have the opportunity to ask questions and share your personal story. Take this opportunity to talk about anything that’s on your mind. \nPlease consider your registration binding! If you can’t attend after all\, please let us know in good time.
URL:https://endometriose-oesterreich.at/en/event/support-group-meeting-for-those-affected-on-24-august-2026/
LOCATION:Online
CATEGORIES:EndÖ End
END:VEVENT
BEGIN:VEVENT
DTSTART;TZID=Europe/Vienna:20260902T180000
DTEND;TZID=Europe/Vienna:20260902T193000
DTSTAMP:20260422T234906
CREATED:20251116T090653Z
LAST-MODIFIED:20251116T090653Z
UID:8284-1788372000-1788377400@endometriose-oesterreich.at
SUMMARY:Networking event with a talk – The empowered patient on 2 September 2026
DESCRIPTION:The knowledgeable patient \nWhat can you expect? \nToday we’re looking at self-efficacy\, for those affected by the chronic conditions endometriosis and adenomyosis.\nThis means: In this presentation we will discuss your options and how you can make use of them . You should leave this place with the thought: “I know my rights\, I know\, where I need to start and I can make decisions for myself .” \nAt the end there is time for your questions. \nNote: This talk does not replace any medical advice – it is intended to help you however\,\nyou to navigate the Austrian healthcare system\, your rights to understand\nand make independent decisions about your health. \nSpeakers: Team members of the patient organisation Endometriosis Austria
URL:https://endometriose-oesterreich.at/en/event/networking-event-with-a-talk-the-empowered-patient-on-2-september-2026/
LOCATION:Online
CATEGORIES:EndÖ End
END:VEVENT
BEGIN:VEVENT
DTSTART;TZID=Europe/Vienna:20260915T180000
DTEND;TZID=Europe/Vienna:20260915T193000
DTSTAMP:20260422T234906
CREATED:20251116T082730Z
LAST-MODIFIED:20251116T082730Z
UID:8285-1789495200-1789500600@endometriose-oesterreich.at
SUMMARY:Support group meeting for those affected on 15 September 2026
DESCRIPTION:Our online peer support meetings for people affected by endometriosis and adenomyosis focus on sharing worries and challenges\, as well as helpful approaches and successes. Every contribution is valuable! You have the opportunity to ask questions and share your personal story. Take this opportunity to talk about anything that’s on your mind. \nPlease consider your registration binding! If you can’t attend after all\, please let us know in good time.
URL:https://endometriose-oesterreich.at/en/event/support-group-meeting-for-those-affected-on-15-september-2026/
LOCATION:Online
CATEGORIES:EndÖ End
END:VEVENT
BEGIN:VEVENT
DTSTART;TZID=Europe/Vienna:20260918T170000
DTEND;TZID=Europe/Vienna:20260918T183000
DTSTAMP:20260422T234906
CREATED:20260213T205523Z
LAST-MODIFIED:20260213T205523Z
UID:8286-1789750800-1789756200@endometriose-oesterreich.at
SUMMARY:Exchange meeting in Wels on 18 September 2026
DESCRIPTION:During a cosy get-together the focus is on sharing stories and socialising. Coffee\, tea and snacks are provided. Gerne versuchen wir eure Fragen zu beantworten. \nTo register\, just send us an email to endo.oesterreich@endoe.at 🙂 We look forward to seeing you!
URL:https://endometriose-oesterreich.at/en/event/exchange-meeting-in-wels-on-18-september-2026/
LOCATION:Vereinssitz EndÖ\, Hamerlingstraße 8\, Wels\, 4600\, Austria
CATEGORIES:EndÖ End
END:VEVENT
BEGIN:VEVENT
DTSTART;TZID=Europe/Vienna:20261006T180000
DTEND;TZID=Europe/Vienna:20261006T200000
DTSTAMP:20260422T234906
CREATED:20260110T222027Z
LAST-MODIFIED:20260110T222027Z
UID:8290-1791309600-1791316800@endometriose-oesterreich.at
SUMMARY:Self-help group EndoPower.Wien on 6 October 2026
DESCRIPTION:We meet every month on Tuesday at 6.00 pm.\n \nDuration: approx. 2 hours \nMeeting point is – unless otherwise stated: @thesocialhub at 1020 Nordbahnstraße 47 \n📍 Venues\, or last-minute changes may occur at any time regarding each event\, here and on the website announced. \n📧Please register via email at: endopower.wien@gmail.com \n💭 “Talking about it helps”. You aren’t alone! 🫂 \n🔗 https://endopower-wien.at/ \n🎗️Insta: @ endopower.wien
URL:https://endometriose-oesterreich.at/en/event/self-help-group-endopower-wien-on-6-october-2026/
CATEGORIES:Others Self-help groups Dates
END:VEVENT
BEGIN:VEVENT
DTSTART;TZID=Europe/Vienna:20261008T180000
DTEND;TZID=Europe/Vienna:20261008T193000
DTSTAMP:20260422T234906
CREATED:20251116T095557Z
LAST-MODIFIED:20251116T095557Z
UID:8289-1791482400-1791487800@endometriose-oesterreich.at
SUMMARY:Networking event for relatives on 8 October 2026
DESCRIPTION:Our online support group meetings for relatives of endometriosis and adenomyosis sufferers focus on the exchange of concerns\, problems but also helpful approaches and successes. Every contribution is valuable! You have the opportunity to ask questions and share your personal story. Take this opportunity to talk about anything that’s on your mind. \nPlease consider your registration binding! If you can’t attend after all\, please let us know in good time.
URL:https://endometriose-oesterreich.at/en/event/networking-event-for-relatives-on-8-october-2026/
LOCATION:Online
CATEGORIES:EndÖ End
END:VEVENT
BEGIN:VEVENT
DTSTART;TZID=Europe/Vienna:20261014T180000
DTEND;TZID=Europe/Vienna:20261014T193000
DTSTAMP:20260422T234906
CREATED:20251116T082919Z
LAST-MODIFIED:20251116T082919Z
UID:8288-1792000800-1792006200@endometriose-oesterreich.at
SUMMARY:Support group meeting for those affected on 14 October 2026
DESCRIPTION:Our online peer support meetings for people affected by endometriosis and adenomyosis focus on sharing worries and challenges\, as well as helpful approaches and successes. Every contribution is valuable! You have the opportunity to ask questions and share your personal story. Take this opportunity to talk about anything that’s on your mind. \nPlease consider your registration binding! If you can’t attend after all\, please let us know in good time.
URL:https://endometriose-oesterreich.at/en/event/support-group-meeting-for-those-affected-on-14-october-2026/
LOCATION:Online
CATEGORIES:EndÖ End
END:VEVENT
BEGIN:VEVENT
DTSTART;TZID=Europe/Vienna:20261022T180000
DTEND;TZID=Europe/Vienna:20261022T193000
DTSTAMP:20260422T234906
CREATED:20260222T075546Z
LAST-MODIFIED:20260222T075546Z
UID:8287-1792692000-1792697400@endometriose-oesterreich.at
SUMMARY:Talk with workshop: Strong despite endometriosis – self-care & mental strategies for a better quality of life on 22 October 2026
DESCRIPTION:Referentin: Annika Kneidinger\, Psychosoziale Beraterin in Ausbildung unter Supervision \nStrong despite endometriosis – self-care & mental strategies for a better quality of life. Endometriosis takes a toll not only physically\, but also emotionally. In diesem Workshop geht es darum\, wieder gut für dich selbst zu sorgen\, ohne schlechtes Gewissen. You’ll gain insights into how to build your mental resilience\, make the most of your resources in everyday life\, and treat yourself with more kindness. To conclude accompanies you on a guided imagery journey to your “safe place”\, a moment of peace\, which reminds you that You are allowed to let go and draw new strength. \n\n\nAbout the speaker: \nI am Annika\, psychosocial counsellor in training under supervision and part of the team at EndÖ\, where I am currently also completing my work placement. I know\, how it feels\, when your own body no longer cooperates\, when pain becomes part of everyday life and one loses oneself somewhere along the way . I live with endometriosis and adenomyosis\, two diagnoses that are not only physical\, but also emotionally demanding. \nBut I was able to find out\, just how much one can change\, when one sees\, hears and is lovingly supported by others. With the help of my own advisor I have learned again\, to listen to myself\, to my gut feeling and to trust it my life according to my needs to shape.
URL:https://endometriose-oesterreich.at/en/event/talk-with-workshop-strong-despite-endometriosis-self-care-mental-strategies-for-a-better-quality-of-life-on-22-october-2026/
LOCATION:Online
CATEGORIES:EndÖ End
END:VEVENT
BEGIN:VEVENT
DTSTART;TZID=Europe/Vienna:20261103T180000
DTEND;TZID=Europe/Vienna:20261103T200000
DTSTAMP:20260422T234906
CREATED:20260110T222149Z
LAST-MODIFIED:20260110T222149Z
UID:8291-1793728800-1793736000@endometriose-oesterreich.at
SUMMARY:EndoPower.Wien support group on 3 November 2026
DESCRIPTION:We meet every month on Tuesday at 6.00 pm.\n \nDuration: approx. 2 hours \nMeeting point is – unless otherwise stated: @thesocialhub at 1020 Nordbahnstraße 47 \n📍 Venues\, or last-minute changes may occur at any time regarding each event\, here and on the website announced. \n📧Please register via email at: endopower.wien@gmail.com \n💭 “Talking about it helps”. You aren’t alone! 🫂 \n🔗 https://endopower-wien.at/ \n🎗️Insta: @ endopower.wien
URL:https://endometriose-oesterreich.at/en/event/endopower-wien-support-group-on-3-november-2026/
CATEGORIES:Others Self-help groups Dates
END:VEVENT
BEGIN:VEVENT
DTSTART;TZID=Europe/Vienna:20261112T180000
DTEND;TZID=Europe/Vienna:20261112T193000
DTSTAMP:20260422T234906
CREATED:20251116T090952Z
LAST-MODIFIED:20251116T090952Z
UID:8292-1794506400-1794511800@endometriose-oesterreich.at
SUMMARY:Networking event featuring a talk – The empowered patient on 12 November 2026
DESCRIPTION:The knowledgeable patient \nWhat can you expect? \nToday we’re looking at self-efficacy\, for those affected by the chronic conditions endometriosis and adenomyosis.\nThis means: In this presentation we will discuss your options and how you can make use of them . You should leave this place with the thought: “I know my rights\, I know\, where I need to start and I can make decisions for myself .” \nAt the end there is time for your questions. \nNote: This talk does not replace any medical advice – it is intended to help you however\,\nyou to navigate the Austrian healthcare system\, your rights to understand\nand make independent decisions about your health. \nSpeakers: Team members of the patient organisation Endometriosis Austria
URL:https://endometriose-oesterreich.at/en/event/networking-event-featuring-a-talk-the-empowered-patient-on-12-november-2026/
LOCATION:Online
CATEGORIES:EndÖ End
END:VEVENT
BEGIN:VEVENT
DTSTART;TZID=Europe/Vienna:20261126T180000
DTEND;TZID=Europe/Vienna:20261126T193000
DTSTAMP:20260422T234906
CREATED:20251116T083055Z
LAST-MODIFIED:20251116T083055Z
UID:8293-1795716000-1795721400@endometriose-oesterreich.at
SUMMARY:Support group meeting for those affected on 26 November 2026
DESCRIPTION:Our online peer support meetings for people affected by endometriosis and adenomyosis focus on sharing worries and challenges\, as well as helpful approaches and successes. Every contribution is valuable! You have the opportunity to ask questions and share your personal story. Take this opportunity to talk about anything that’s on your mind. \nPlease consider your registration binding! If you can’t attend after all\, please let us know in good time.
URL:https://endometriose-oesterreich.at/en/event/support-group-meeting-for-those-affected-on-26-november-2026/
LOCATION:Online
CATEGORIES:EndÖ End
END:VEVENT
BEGIN:VEVENT
DTSTART;TZID=Europe/Vienna:20261201T180000
DTEND;TZID=Europe/Vienna:20261201T200000
DTSTAMP:20260422T234906
CREATED:20260110T222310Z
LAST-MODIFIED:20260110T222310Z
UID:8294-1796148000-1796155200@endometriose-oesterreich.at
SUMMARY:Self-help group EndoPower.Wien on 1 December 2026
DESCRIPTION:We meet every month on Tuesday at 6.00 pm.\n \nDuration: approx. 2 hours \nMeeting point is – unless otherwise stated: @thesocialhub at 1020 Nordbahnstraße 47 \n📍 Venues\, or last-minute changes may occur at any time regarding each event\, here and on the website announced. \n📧Please register via email at: endopower.wien@gmail.com \n💭 “Talking about it helps”. You aren’t alone! 🫂 \n🔗 https://endopower-wien.at/ \n🎗️Insta: @ endopower.wien
URL:https://endometriose-oesterreich.at/en/event/self-help-group-endopower-wien-on-1-december-2026/
CATEGORIES:Others Self-help groups Dates
END:VEVENT
BEGIN:VEVENT
DTSTART;TZID=Europe/Vienna:20261208T193000
DTEND;TZID=Europe/Vienna:20261208T210000
DTSTAMP:20260422T234906
CREATED:20260319T223750Z
LAST-MODIFIED:20260319T223750Z
UID:8295-1796758200-1796763600@endometriose-oesterreich.at
SUMMARY:Talk with practical session: ENDOYOGA® experience – feel\, accept\, let go. on 8 December 2026
DESCRIPTION:ENDOYOGA® Talk and yoga session (60 mins) – in total. Ninety minutes \nSpeaker: Jasmin Scheffler \nIn this online talk you’ll gain an insight into the concept of ENDOYOGA – a gentle\, body-centred form of yoga\, which is specifically designed for people with endometriosis and other discomforts during the menstrual cycle has been developed. ENDOYOGA helps you to\, become more mindful of yourself\, physical and emotional tensions to accept and step by step let go. \nNach dem kurzen Vortrag über die Wirkweise und Hintergründe von ENDOYOGA wirst du eingeladen\, gemeinsam eine 60-minütige Yogaeinheit zu erleben. The focus is here on relief\, self-care and a loving approach to your body. \nWhat you need for your yoga session:\n(Please prepare yourself before the lecture) \n– a non-slip mat / yoga mat\n– comfortable clothing\n– something to drink / Tea\n– a quiet place\, where you can be undisturbed \nThe event will take place online via Zoom on – you can take part in a relaxed manner from the comfort of your own home at home. No prior knowledge of yoga is required for the yoga session. You can take part as a beginner or as an already experienced yogini. \nAbout the speaker:\nI am Jasmin Scheffler – Founder of Livija – your space for yoga and coaching in Hamburg. Als zertifizierte Yoga- und ENDOYOGA-Lehrerin sowie Sozialpädagogin begleite ich Menschen mit Endometriose und alle\, die sich nach mehr innerere Freiheit sehnen. Mit Herz und einem ganzheitlichen Blick arbeite ich mit Vinyasa Yoga\, sanften Yogaeinheiten und ENDOYOGA® und begleite Menschen im Rahmen eines Coachings. My aim is to spaces in which you can feel yourself again and your body with love perceive and find your way back to your strength again can. \nI am looking forward to meeting to meet you at the lecture and to see you on your journey a12> bit along your journey accompany you may. \nWith love\, Jasmin
URL:https://endometriose-oesterreich.at/en/event/talk-with-practical-session-endoyoga-experience-feel-accept-let-go-on-8-december-2026/
LOCATION:Online
CATEGORIES:EndÖ End
END:VEVENT
BEGIN:VEVENT
DTSTART;TZID=Europe/Vienna:20261210T180000
DTEND;TZID=Europe/Vienna:20261210T193000
DTSTAMP:20260422T234906
CREATED:20260213T210116Z
LAST-MODIFIED:20260213T210116Z
UID:8297-1796925600-1796931000@endometriose-oesterreich.at
SUMMARY:Exchange meeting in Linz on 10 December 2026
DESCRIPTION:During a cosy get-together the focus is on sharing stories and socialising. Coffee\, tea and snacks are provided. Gerne versuchen wir eure Fragen zu beantworten. \nTo register\, just send us an email to endo.oesterreich@endoe.at 🙂 We look forward to seeing you! \nIf you arrive by 17:30\, you can park for free in the car park before town is available.
URL:https://endometriose-oesterreich.at/en/event/exchange-meeting-in-linz-on-10-december-2026/
LOCATION:Mein Gesundheitszentrum\, Garnissonstraße 1a\, Linz\, 4020
CATEGORIES:EndÖ End
END:VEVENT
BEGIN:VEVENT
DTSTART;TZID=Europe/Vienna:20261211T180000
DTEND;TZID=Europe/Vienna:20261211T193000
DTSTAMP:20260422T234906
CREATED:20251116T083248Z
LAST-MODIFIED:20251116T083248Z
UID:8296-1797012000-1797017400@endometriose-oesterreich.at
SUMMARY:Support group meeting for those affected on 11 December 2026
DESCRIPTION:Our online peer support meetings for people affected by endometriosis and adenomyosis focus on sharing worries and challenges\, as well as helpful approaches and successes. Every contribution is valuable! You have the opportunity to ask questions and share your personal story. Take this opportunity to talk about anything that’s on your mind. \nPlease consider your registration binding! If you can’t attend after all\, please let us know in good time.
URL:https://endometriose-oesterreich.at/en/event/support-group-meeting-for-those-affected-on-11-december-2026/
LOCATION:Online
CATEGORIES:EndÖ End
END:VEVENT
END:VCALENDAR