BEGIN:VCALENDAR
VERSION:2.0
PRODID:-//EndÖ - Endometriose Österreich - ECPv6.15.20//NONSGML v1.0//EN
CALSCALE:GREGORIAN
METHOD:PUBLISH
X-WR-CALNAME:EndÖ - Endometriose Österreich
X-ORIGINAL-URL:https://endometriose-oesterreich.at/en/
X-WR-CALDESC:Events for EndÖ - Endometriose Österreich
REFRESH-INTERVAL;VALUE=DURATION:PT1H
X-Robots-Tag:noindex
X-PUBLISHED-TTL:PT1H
BEGIN:VTIMEZONE
TZID:Europe/Vienna
BEGIN:DAYLIGHT
TZOFFSETFROM:+0100
TZOFFSETTO:+0200
TZNAME:CEST
DTSTART:20250330T010000
END:DAYLIGHT
BEGIN:STANDARD
TZOFFSETFROM:+0200
TZOFFSETTO:+0100
TZNAME:CET
DTSTART:20251026T010000
END:STANDARD
BEGIN:DAYLIGHT
TZOFFSETFROM:+0100
TZOFFSETTO:+0200
TZNAME:CEST
DTSTART:20260329T010000
END:DAYLIGHT
BEGIN:STANDARD
TZOFFSETFROM:+0200
TZOFFSETTO:+0100
TZNAME:CET
DTSTART:20261025T010000
END:STANDARD
BEGIN:DAYLIGHT
TZOFFSETFROM:+0100
TZOFFSETTO:+0200
TZNAME:CEST
DTSTART:20270328T010000
END:DAYLIGHT
BEGIN:STANDARD
TZOFFSETFROM:+0200
TZOFFSETTO:+0100
TZNAME:CET
DTSTART:20271031T010000
END:STANDARD
END:VTIMEZONE
BEGIN:VEVENT
DTSTART;TZID=Europe/Vienna:20260526T200000
DTEND;TZID=Europe/Vienna:20260526T213000
DTSTAMP:20260422T071449
CREATED:20260319T223407Z
LAST-MODIFIED:20260319T223407Z
UID:8267-1779825600-1779831000@endometriose-oesterreich.at
SUMMARY:Talk with practical session: ENDOYOGA® experience – feel\, accept\, let go. on 26 May 2026
DESCRIPTION:ENDOYOGA® Talk and yoga session (60 mins) – in total. Ninety minutes \nSpeaker: Jasmin Scheffler \nIn this online talk you’ll gain an insight into the concept of ENDOYOGA – a gentle\, body-centred form of yoga\, which is specifically designed for people with endometriosis and other discomforts during the menstrual cycle has been developed. ENDOYOGA helps you to\, become more mindful of yourself\, physical and emotional tensions to accept and step by step let go. \nNach dem kurzen Vortrag über die Wirkweise und Hintergründe von ENDOYOGA wirst du eingeladen\, gemeinsam eine 60-minütige Yogaeinheit zu erleben. The focus is here on relief\, self-care and a loving approach to your body. \nWhat you need for your yoga session:\n(Please prepare yourself before the lecture) \n– a non-slip mat / yoga mat\n– comfortable clothing\n– something to drink / Tea\n– a quiet place\, where you can be undisturbed \nThe event will take place online via Zoom on – you can take part in a relaxed manner from the comfort of your own home at home. No prior knowledge of yoga is required for the yoga session. You can take part as a beginner or as an already experienced yogini. \nAbout the speaker:\nI am Jasmin Scheffler – Founder of Livija – your space for yoga and coaching in Hamburg. Als zertifizierte Yoga- und ENDOYOGA-Lehrerin sowie Sozialpädagogin begleite ich Menschen mit Endometriose und alle\, die sich nach mehr innerere Freiheit sehnen. Mit Herz und einem ganzheitlichen Blick arbeite ich mit Vinyasa Yoga\, sanften Yogaeinheiten und ENDOYOGA® und begleite Menschen im Rahmen eines Coachings. My aim is to spaces in which you can feel yourself again and your body with love perceive and find your way back to your strength again can. \nI am looking forward to meeting to meet you at the lecture and to see you on your journey a12> bit along your journey accompany you may. \nWith love\, Jasmin
URL:https://endometriose-oesterreich.at/en/event/talk-with-practical-session-endoyoga-experience-feel-accept-let-go-on-26-may-2026/
LOCATION:Online
CATEGORIES:EndÖ End
END:VEVENT
BEGIN:VEVENT
DTSTART;TZID=Europe/Vienna:20260520T180000
DTEND;TZID=Europe/Vienna:20260520T193000
DTSTAMP:20260422T071449
CREATED:20251116T081759Z
LAST-MODIFIED:20251116T081759Z
UID:8266-1779300000-1779305400@endometriose-oesterreich.at
SUMMARY:Support group meeting for affected individuals on May 20\, 2026
DESCRIPTION:Our online peer support meetings for people affected by endometriosis and adenomyosis focus on sharing worries and challenges\, as well as helpful approaches and successes. Every contribution is valuable! You have the opportunity to ask questions and share your personal story. Take this opportunity to talk about anything that’s on your mind. \nPlease consider your registration binding! If you can’t attend after all\, please let us know in good time.
URL:https://endometriose-oesterreich.at/en/event/support-group-meeting-for-affected-individuals-on-may-20-2026/
LOCATION:Online
CATEGORIES:EndÖ End
END:VEVENT
BEGIN:VEVENT
DTSTART;TZID=Europe/Vienna:20260507T180000
DTEND;TZID=Europe/Vienna:20260507T193000
DTSTAMP:20260422T071449
CREATED:20251116T085918Z
LAST-MODIFIED:20251116T085918Z
UID:8261-1778176800-1778182200@endometriose-oesterreich.at
SUMMARY:Networking event with a talk – The empowered patient on 7 May 2026
DESCRIPTION:The knowledgeable patient \nWhat can you expect? \nToday we’re looking at self-efficacy\, for those affected by the chronic conditions endometriosis and adenomyosis.\nThis means: In this presentation we will discuss your options and how you can make use of them . You should leave this place with the thought: “I know my rights\, I know\, where I need to start and I can make decisions for myself make.”  \nAt the end there is time for your questions. \nNote: This talk does not replace any medical advice – it is intended to help you however\,\nyou to navigate the Austrian healthcare system\, your rights to understand\nand make independent decisions about your health. \nSpeakers: Team members of the patient organisation Endometriosis Austria
URL:https://endometriose-oesterreich.at/en/event/networking-event-with-a-talk-the-empowered-patient-on-7-may-2026/
LOCATION:Online
CATEGORIES:EndÖ End
END:VEVENT
BEGIN:VEVENT
DTSTART;TZID=Europe/Vienna:20260505T180000
DTEND;TZID=Europe/Vienna:20260505T200000
DTSTAMP:20260422T071449
CREATED:20260110T221445Z
LAST-MODIFIED:20260110T221445Z
UID:8265-1778004000-1778011200@endometriose-oesterreich.at
SUMMARY:EndoPower.Wien support group on 5 May 2026
DESCRIPTION:We meet every month on Tuesday at 6.00 pm.\n \nDuration: approx. 2 hours \nMeeting point is – unless otherwise stated: @thesocialhub at 1020 Nordbahnstraße 47 \n📍 Venues\, or last-minute changes may occur at any time regarding each event\, here and on the website announced. \n📧Please register via email at: endopower.wien@gmail.com \n💭 “Talking about it helps”. You aren’t alone! 🫂 \n🔗 https://endopower-wien.at/ \n🎗️Insta: @ endopower.wien
URL:https://endometriose-oesterreich.at/en/event/endopower-wien-support-group-on-5-may-2026/
CATEGORIES:Others Self-help groups Dates
END:VEVENT
BEGIN:VEVENT
DTSTART;TZID=Europe/Vienna:20260428T180000
DTEND;TZID=Europe/Vienna:20260428T193000
DTSTAMP:20260422T071449
CREATED:20251116T081412Z
LAST-MODIFIED:20251116T081412Z
UID:8264-1777399200-1777404600@endometriose-oesterreich.at
SUMMARY:Peer support meeting for those affected on April 28\, 2026
DESCRIPTION:Our online peer support meetings for people affected by endometriosis and adenomyosis focus on sharing worries and challenges\, as well as helpful approaches and successes. Every contribution is valuable! You have the opportunity to ask questions and share your personal story. Take this opportunity to talk about anything that’s on your mind. \nPlease consider your registration binding! If you can’t attend after all\, please let us know in good time.
URL:https://endometriose-oesterreich.at/en/event/peer-support-meeting-for-those-affected-on-april-28-2026/
LOCATION:Online
CATEGORIES:EndÖ End
END:VEVENT
END:VCALENDAR