BEGIN:VCALENDAR
VERSION:2.0
PRODID:-//EndÖ - Endometriose Österreich - ECPv6.15.20//NONSGML v1.0//EN
CALSCALE:GREGORIAN
METHOD:PUBLISH
X-WR-CALNAME:EndÖ - Endometriose Österreich
X-ORIGINAL-URL:https://endometriose-oesterreich.at/en/
X-WR-CALDESC:Events for EndÖ - Endometriose Österreich
REFRESH-INTERVAL;VALUE=DURATION:PT1H
X-Robots-Tag:noindex
X-PUBLISHED-TTL:PT1H
BEGIN:VTIMEZONE
TZID:Europe/Vienna
BEGIN:DAYLIGHT
TZOFFSETFROM:+0100
TZOFFSETTO:+0200
TZNAME:CEST
DTSTART:20250330T010000
END:DAYLIGHT
BEGIN:STANDARD
TZOFFSETFROM:+0200
TZOFFSETTO:+0100
TZNAME:CET
DTSTART:20251026T010000
END:STANDARD
BEGIN:DAYLIGHT
TZOFFSETFROM:+0100
TZOFFSETTO:+0200
TZNAME:CEST
DTSTART:20260329T010000
END:DAYLIGHT
BEGIN:STANDARD
TZOFFSETFROM:+0200
TZOFFSETTO:+0100
TZNAME:CET
DTSTART:20261025T010000
END:STANDARD
BEGIN:DAYLIGHT
TZOFFSETFROM:+0100
TZOFFSETTO:+0200
TZNAME:CEST
DTSTART:20270328T010000
END:DAYLIGHT
BEGIN:STANDARD
TZOFFSETFROM:+0200
TZOFFSETTO:+0100
TZNAME:CET
DTSTART:20271031T010000
END:STANDARD
END:VTIMEZONE
BEGIN:VEVENT
DTSTART;TZID=Europe/Vienna:20260918T170000
DTEND;TZID=Europe/Vienna:20260918T183000
DTSTAMP:20260422T114106
CREATED:20260213T205523Z
LAST-MODIFIED:20260213T205523Z
UID:8286-1789750800-1789756200@endometriose-oesterreich.at
SUMMARY:Exchange meeting in Wels on 18 September 2026
DESCRIPTION:During a cosy get-together the focus is on sharing stories and socialising. Coffee\, tea and snacks are provided. Gerne versuchen wir eure Fragen zu beantworten. \nTo register\, just send us an email to endo.oesterreich@endoe.at 🙂 We look forward to seeing you!
URL:https://endometriose-oesterreich.at/en/event/exchange-meeting-in-wels-on-18-september-2026/
LOCATION:Vereinssitz EndÖ\, Hamerlingstraße 8\, Wels\, 4600\, Austria
CATEGORIES:EndÖ End
END:VEVENT
END:VCALENDAR