BEGIN:VCALENDAR
VERSION:2.0
PRODID:-//EndÖ - Endometriose Österreich - ECPv6.15.20//NONSGML v1.0//EN
CALSCALE:GREGORIAN
METHOD:PUBLISH
X-ORIGINAL-URL:https://endometriose-oesterreich.at/en/
X-WR-CALDESC:Events for EndÖ - Endometriose Österreich
REFRESH-INTERVAL;VALUE=DURATION:PT1H
X-Robots-Tag:noindex
X-PUBLISHED-TTL:PT1H
BEGIN:VTIMEZONE
TZID:Europe/Vienna
BEGIN:DAYLIGHT
TZOFFSETFROM:+0100
TZOFFSETTO:+0200
TZNAME:CEST
DTSTART:20250330T010000
END:DAYLIGHT
BEGIN:STANDARD
TZOFFSETFROM:+0200
TZOFFSETTO:+0100
TZNAME:CET
DTSTART:20251026T010000
END:STANDARD
BEGIN:DAYLIGHT
TZOFFSETFROM:+0100
TZOFFSETTO:+0200
TZNAME:CEST
DTSTART:20260329T010000
END:DAYLIGHT
BEGIN:STANDARD
TZOFFSETFROM:+0200
TZOFFSETTO:+0100
TZNAME:CET
DTSTART:20261025T010000
END:STANDARD
BEGIN:DAYLIGHT
TZOFFSETFROM:+0100
TZOFFSETTO:+0200
TZNAME:CEST
DTSTART:20270328T010000
END:DAYLIGHT
BEGIN:STANDARD
TZOFFSETFROM:+0200
TZOFFSETTO:+0100
TZNAME:CET
DTSTART:20271031T010000
END:STANDARD
END:VTIMEZONE
BEGIN:VEVENT
DTSTART;TZID=Europe/Vienna:20260613T170000
DTEND;TZID=Europe/Vienna:20260613T183000
DTSTAMP:20260422T051013
CREATED:20260131T141312Z
LAST-MODIFIED:20260131T141312Z
UID:8276-1781370000-1781375400@endometriose-oesterreich.at
SUMMARY:Lecture: Endometriosis and Sexuality on 13 June 2026
DESCRIPTION:Speaker: Naila Rediske. Sex therapist and couples therapist in her own practice \nEndometriosis and sexuality. The symptom of painful sexual intercourse (dyspareunia) is one of the most common associated with endometriosis. In my lecture I look at this symptom in detail\, explaining\, which different forms it can take and to what extent education\, body awareness\, the strengthening of the emotional level and specific sex therapy methods and the right exercises can help. Whether you are single or in a relationship or not\, a painful sex life is never normal and there are very many very good solutions for this symptom. My presentation provides initial important insights into this topic. \nAbout the speaker: \nI am Naila\, a sex and couples counsellor specialising in people with endometriosis. In meiner Praxis in Hamburg sowie online berate ich Endometriose-Betroffene im Einzel- und Paarsetting. Im Fokus stehen die Stärkung der Selbstbeziehung\, ein guter Umgang mit der Erkrankung und ein selbstbewusstes\, lebenswertes Leben trotz Endometriose. \nThrough my additional specialisation in the field of sexual counselling I support people in particular with painful sexuality. This symptom severely restricts many people affected – through education and sex therapy methods I help\, a pain-free and fulfilling sex life to develop. Pain during sex is never normal\, not even in the case of endometriosis. \nOn my Instagram channel and in my podcast\, I provide information on this topic and offer consultations and courses. In April 2026\, a book on endometriosis self-help will be published by TRIAS Verlag\, which I wrote together with three colleagues. \nwww.naila-rediske.de\n\nInstagram: @endo.pareunos\n\n\n 
URL:https://endometriose-oesterreich.at/en/event/lecture-endometriosis-and-sexuality-on-13-june-2026/
LOCATION:Online
CATEGORIES:EndÖ End
END:VEVENT
END:VCALENDAR