BEGIN:VCALENDAR
VERSION:2.0
PRODID:-//EndÖ - Endometriose Österreich - ECPv6.15.20//NONSGML v1.0//EN
CALSCALE:GREGORIAN
METHOD:PUBLISH
X-ORIGINAL-URL:https://endometriose-oesterreich.at/en/
X-WR-CALDESC:Events for EndÖ - Endometriose Österreich
REFRESH-INTERVAL;VALUE=DURATION:PT1H
X-Robots-Tag:noindex
X-PUBLISHED-TTL:PT1H
BEGIN:VTIMEZONE
TZID:Europe/Vienna
BEGIN:DAYLIGHT
TZOFFSETFROM:+0100
TZOFFSETTO:+0200
TZNAME:CEST
DTSTART:20250330T010000
END:DAYLIGHT
BEGIN:STANDARD
TZOFFSETFROM:+0200
TZOFFSETTO:+0100
TZNAME:CET
DTSTART:20251026T010000
END:STANDARD
BEGIN:DAYLIGHT
TZOFFSETFROM:+0100
TZOFFSETTO:+0200
TZNAME:CEST
DTSTART:20260329T010000
END:DAYLIGHT
BEGIN:STANDARD
TZOFFSETFROM:+0200
TZOFFSETTO:+0100
TZNAME:CET
DTSTART:20261025T010000
END:STANDARD
BEGIN:DAYLIGHT
TZOFFSETFROM:+0100
TZOFFSETTO:+0200
TZNAME:CEST
DTSTART:20270328T010000
END:DAYLIGHT
BEGIN:STANDARD
TZOFFSETFROM:+0200
TZOFFSETTO:+0100
TZNAME:CET
DTSTART:20271031T010000
END:STANDARD
END:VTIMEZONE
BEGIN:VEVENT
DTSTART;TZID=Europe/Vienna:20260530T090000
DTEND;TZID=Europe/Vienna:20260530T160000
DTSTAMP:20260422T034503
CREATED:20260319T222739Z
LAST-MODIFIED:20260319T222739Z
UID:8269-1780131600-1780156800@endometriose-oesterreich.at
SUMMARY:Symposium on endometriosis\, reproductive medicine and informed family planning on 30 May 2026
DESCRIPTION:Fachtagung – 2. Frauengesundheitstag \nEndometriosis\, reproductive medicine and informed family planning \nMedical continuing professional development\n& information session \nDas Team des Referats für Frauenpolitik\, Gender und Diversity der Kammer für Ärztinnen und Ärzte in Wien und Frauengesundheit Wien laden herzlich zum 2. Frauengesundheitstag am Samstag\, 30. Mai 2026 ins Wiener Rathaus ein. \nThe aim of the 2nd Women’s Health Day is on the one hand to place the focus on well-informed family planning whilst taking into account the options available in the field of reproductive medicine as well as reproductive medicine a15> reproductive medicine to establish as well as on the other hand the awareness of endometriosis as frequently under- or. late diagnosed and for patients a very burdensome condition to exacerbate. In this context is aimed at also the 2nd Women’s Health Day is aimed at female doctors and male doctors as well as those affected. \nEndÖ is represented by an information stand .
URL:https://endometriose-oesterreich.at/en/event/symposium-on-endometriosis-reproductive-medicine-and-informed-family-planning-on-30-may-2026/
LOCATION:Rathaus Wien
CATEGORIES:EndÖ End
END:VEVENT
END:VCALENDAR