BEGIN:VCALENDAR
VERSION:2.0
PRODID:-//EndÖ - Endometriose Österreich - ECPv6.15.20//NONSGML v1.0//EN
CALSCALE:GREGORIAN
METHOD:PUBLISH
X-ORIGINAL-URL:https://endometriose-oesterreich.at
X-WR-CALDESC:Veranstaltungen für EndÖ - Endometriose Österreich
REFRESH-INTERVAL;VALUE=DURATION:PT1H
X-Robots-Tag:noindex
X-PUBLISHED-TTL:PT1H
BEGIN:VTIMEZONE
TZID:Europe/Vienna
BEGIN:DAYLIGHT
TZOFFSETFROM:+0100
TZOFFSETTO:+0200
TZNAME:CEST
DTSTART:20250330T010000
END:DAYLIGHT
BEGIN:STANDARD
TZOFFSETFROM:+0200
TZOFFSETTO:+0100
TZNAME:CET
DTSTART:20251026T010000
END:STANDARD
BEGIN:DAYLIGHT
TZOFFSETFROM:+0100
TZOFFSETTO:+0200
TZNAME:CEST
DTSTART:20260329T010000
END:DAYLIGHT
BEGIN:STANDARD
TZOFFSETFROM:+0200
TZOFFSETTO:+0100
TZNAME:CET
DTSTART:20261025T010000
END:STANDARD
BEGIN:DAYLIGHT
TZOFFSETFROM:+0100
TZOFFSETTO:+0200
TZNAME:CEST
DTSTART:20270328T010000
END:DAYLIGHT
BEGIN:STANDARD
TZOFFSETFROM:+0200
TZOFFSETTO:+0100
TZNAME:CET
DTSTART:20271031T010000
END:STANDARD
END:VTIMEZONE
BEGIN:VEVENT
DTSTART;TZID=Europe/Vienna:20260902T180000
DTEND;TZID=Europe/Vienna:20260902T193000
DTSTAMP:20260420T002711
CREATED:20251116T090653Z
LAST-MODIFIED:20251116T090653Z
UID:6445-1788372000-1788377400@endometriose-oesterreich.at
SUMMARY:Austauschtreffen mit Vortrag - Die kompetente Patientin am 02.09.2026
DESCRIPTION:Die kompetente Patientin \nWas erwartet dich? \nHeute geht es um Selbstwirksamkeit\, für Betroffene mit den chronischen Erkrankungen Endometriose und Adenomyose.\nDas bedeutet: Wir behandeln in diesem Vortrag was deine Möglichkeiten sind und wie du sie in Anspruch nehmen kannst. Du sollst hier rausgehen mit dem Gedanken: „Ich kenne meine Rechte\, ich weiß\, wo ich ansetzen muss und ich kann Entscheidungen für mich treffen.“ \nZum Abschluss gibt es Zeit für deine Fragen. \nHinweis: Dieser Vortrag ersetzt keine ärztliche Beratung – er soll dir aber helfen\,\ndich im österreichischen Gesundheitssystem zu orientieren\, deine Rechte zu kennen\nund selbstbestimmt Entscheidungen zu treffen. \nVortragende: Teammitglieder der Patientinnen-Organisation Endometriose Österreich
URL:https://endometriose-oesterreich.at/event/dkp-austauschtreffen-09-02-2026/
LOCATION:Online
CATEGORIES:EndÖ Termine
END:VEVENT
BEGIN:VEVENT
DTSTART;TZID=Europe/Vienna:20260915T180000
DTEND;TZID=Europe/Vienna:20260915T193000
DTSTAMP:20260420T002711
CREATED:20251116T082730Z
LAST-MODIFIED:20251116T082730Z
UID:6416-1789495200-1789500600@endometriose-oesterreich.at
SUMMARY:Austauschtreffen für Betroffene am 15.09.2026
DESCRIPTION:Unsere Online-Austauschtreffen für Betroffene von Endometriose und Adenomyose konzentrieren sich auf den Austausch über Sorgen\, Probleme aber auch hilfreiche Ansätze und Erfolge. Jeder Beitrag ist wertvoll! Du hast die Möglichkeit\, Fragen zu stellen und deine persönliche Geschichte zu teilen. Nutze diese Gelegenheit\, um alles anzusprechen\, was dir auf dem Herzen liegt. \nBitte betrachte deine Anmeldung als verbindlich! Solltest du doch nicht teilnehmen können\, so bitten wir dich\, dass du uns rechtzeitig informierst.
URL:https://endometriose-oesterreich.at/event/austauschtreffen-09-15-2026/
LOCATION:Online
CATEGORIES:EndÖ Termine
END:VEVENT
BEGIN:VEVENT
DTSTART;TZID=Europe/Vienna:20260918T170000
DTEND;TZID=Europe/Vienna:20260918T183000
DTSTAMP:20260420T002711
CREATED:20260213T205523Z
LAST-MODIFIED:20260213T205603Z
UID:7376-1789750800-1789756200@endometriose-oesterreich.at
SUMMARY:Austauschtreffen in Wels am 18.09.2026
DESCRIPTION:Bei einem gemütlichen Beisammensein steht der Austausch im Mittelpunkt. Für Kaffee\, Tee und Snacks ist gesorgt. Gerne versuchen wir eure Fragen zu beantworten. \nFür die Anmeldung sende uns einfach ein Email an endo.oesterreich@endoe.at 🙂 Wir freuen uns auf dich!
URL:https://endometriose-oesterreich.at/event/austauschtreffen-in-wels-18-09-2026/
LOCATION:Vereinssitz EndÖ\, Hamerlingstraße 8\, Wels\, 4600\, Austria
CATEGORIES:EndÖ Termine
END:VEVENT
END:VCALENDAR