BEGIN:VCALENDAR
VERSION:2.0
PRODID:-//EndÖ - Endometriose Österreich - ECPv6.15.20//NONSGML v1.0//EN
CALSCALE:GREGORIAN
METHOD:PUBLISH
X-ORIGINAL-URL:https://endometriose-oesterreich.at
X-WR-CALDESC:Veranstaltungen für EndÖ - Endometriose Österreich
REFRESH-INTERVAL;VALUE=DURATION:PT1H
X-Robots-Tag:noindex
X-PUBLISHED-TTL:PT1H
BEGIN:VTIMEZONE
TZID:Europe/Vienna
BEGIN:DAYLIGHT
TZOFFSETFROM:+0100
TZOFFSETTO:+0200
TZNAME:CEST
DTSTART:20250330T010000
END:DAYLIGHT
BEGIN:STANDARD
TZOFFSETFROM:+0200
TZOFFSETTO:+0100
TZNAME:CET
DTSTART:20251026T010000
END:STANDARD
BEGIN:DAYLIGHT
TZOFFSETFROM:+0100
TZOFFSETTO:+0200
TZNAME:CEST
DTSTART:20260329T010000
END:DAYLIGHT
BEGIN:STANDARD
TZOFFSETFROM:+0200
TZOFFSETTO:+0100
TZNAME:CET
DTSTART:20261025T010000
END:STANDARD
BEGIN:DAYLIGHT
TZOFFSETFROM:+0100
TZOFFSETTO:+0200
TZNAME:CEST
DTSTART:20270328T010000
END:DAYLIGHT
BEGIN:STANDARD
TZOFFSETFROM:+0200
TZOFFSETTO:+0100
TZNAME:CET
DTSTART:20271031T010000
END:STANDARD
END:VTIMEZONE
BEGIN:VEVENT
DTSTART;TZID=Europe/Vienna:20260602T180000
DTEND;TZID=Europe/Vienna:20260602T200000
DTSTAMP:20260419T190441
CREATED:20260110T221738Z
LAST-MODIFIED:20260110T221738Z
UID:6844-1780423200-1780430400@endometriose-oesterreich.at
SUMMARY:Selbsthilfegruppe EndoPower.Wien am 02.06.2026
DESCRIPTION:Wir treffen uns jeden Monat am Dienstag um 18.00 Uhr.\n \nDauer: ca 2 Stunden \nTreffpunkt ist – wenn nicht anders angegeben: @thesocialhub in 1020 Nordbahnstraße 47 \n📍 Locations\, bzw kurzfristige Änderungen geben wir je Termin\, hier und auf der Homepage bekannt. \n📧Anmeldungen bitte via e-mail an: endopower.wien@gmail.com \n💭 „Darüber reden hilft“. Du bist nicht allein! 🫂 \n🔗 https://endopower-wien.at/ \n🎗️Insta: @ endopower.wien
URL:https://endometriose-oesterreich.at/event/endopower-wien-am-02-06-2026/
CATEGORIES:Andere SHG Termine
END:VEVENT
BEGIN:VEVENT
DTSTART;TZID=Europe/Vienna:20260605T150000
DTEND;TZID=Europe/Vienna:20260605T163000
DTSTAMP:20260419T190441
CREATED:20260213T211728Z
LAST-MODIFIED:20260213T211923Z
UID:7384-1780671600-1780677000@endometriose-oesterreich.at
SUMMARY:Vortrag: Chronische Beckenschmerzen neu denken - Endometriose und Gefässkompressionsyndrome am 5.06.2026
DESCRIPTION:Referent: Dr. med. Andreas Putz \nVortrag zum Thema Chronische Beckenschmerzen neu denken – Endometriose und Gefässkompressionsyndrome. \nEs besteht im Anschluss an den Vortrag die Möglichkeit Fragen zu stellen. \nDr. med. Andreas Putz beschäftigt sich seit 1999 schwerpunktmäßig mit Endometriose und seit 2013 mit Neuropelveologie. \n1978 bis 1984 Studium der Humammedizin in Aachen\n1984 bis 1989 Facharztausbildung in Dortmund und Duisburg\n1989 bis 1993 Oberarzt in Duisburg\nNach 1993 leitende Stellen in Dortmund\, Molde (N) und Tønsberg (N)\nSeit 2021 Leitender Arzt der Frauenklinik im Dietrich-Bonhoeffer-Klinikum Neubrandenburg und Leiter des Zentrums für Endometriose und Neuropelveologie\nZwischenzeitlich mehrere Auslandsaufenthalte in Villach (AT)\, Negrar (I)\, Pune (IND)\, Toronto (CAN)\, Sao Paolo (BR)
URL:https://endometriose-oesterreich.at/event/chronische-beckenschmerzen-neu-denken-endometriose-und-gefaesskompressionsyndrome-am-5-06-2026/
LOCATION:Online
CATEGORIES:EndÖ Termine
END:VEVENT
BEGIN:VEVENT
DTSTART;TZID=Europe/Vienna:20260611T180000
DTEND;TZID=Europe/Vienna:20260611T193000
DTSTAMP:20260419T190441
CREATED:20260213T205839Z
LAST-MODIFIED:20260213T210143Z
UID:7378-1781200800-1781206200@endometriose-oesterreich.at
SUMMARY:Austauschtreffen in Linz am 11.06.2026
DESCRIPTION:Bei einem gemütlichen Beisammensein steht der Austausch im Mittelpunkt. Für Kaffee\, Tee und Snacks ist gesorgt. Gerne versuchen wir eure Fragen zu beantworten. \nFür die Anmeldung sende uns einfach ein Email an endo.oesterreich@endoe.at 🙂 Wir freuen uns auf dich! \nBei Einfahrt bis 17:30 ist das kostenlose Parken in der Parkgarage vor Ort möglich.
URL:https://endometriose-oesterreich.at/event/austauschtreffen-in-linz-11-06-2026-2/
LOCATION:Mein Gesundheitszentrum\, Garnissonstraße 1a\, Linz\, 4020
CATEGORIES:EndÖ Termine
END:VEVENT
BEGIN:VEVENT
DTSTART;TZID=Europe/Vienna:20260611T180000
DTEND;TZID=Europe/Vienna:20260611T200000
DTSTAMP:20260419T190441
CREATED:20260324T211416Z
LAST-MODIFIED:20260324T211416Z
UID:7910-1781200800-1781208000@endometriose-oesterreich.at
SUMMARY:Austauschtreffen Endometriose Tirol am 11.06.2026
DESCRIPTION:Austauschtreffen Endometriose Tirol\n\n \nDonnerstag\, 11. Juni um 18 Uhr\n\n\n\nOrt: Dachverband Selbsthilfe\, Innrain 43\, Erdgeschoß\, Innsbruck\n\nDauer: Ca. zwei Stunden. Bleib so lange\, wie es für dich passt\n\nAnmeldung bei Gudrun per Mail: endo.tirol@gmail.com\nEine Anmeldung ist erforderlich. Die Teilnahme ist kostenlos. Begrenzte Plätze!\n\nUnsere Treffen ermöglichen den persönlichen Austausch unter Betroffenen. Im Vordergrund steht die gegenseitige Unterstützung. Wir reden über unsere Erfahrungen und Sorgen\, über hilfreiche Ansätze und Erfolge. Du kannst deine Fragen stellen oder einfach nur zuhören. Wir freuen uns auf dein Kommen!
URL:https://endometriose-oesterreich.at/event/austauschtreffen-endometriose-tirol-am-11-06-2026/
CATEGORIES:Andere SHG Termine
END:VEVENT
BEGIN:VEVENT
DTSTART;TZID=Europe/Vienna:20260613T170000
DTEND;TZID=Europe/Vienna:20260613T183000
DTSTAMP:20260419T190441
CREATED:20260131T141312Z
LAST-MODIFIED:20260413T195423Z
UID:7190-1781370000-1781375400@endometriose-oesterreich.at
SUMMARY:Vortrag: Endometriose und Sexualität am 13.06.2026
DESCRIPTION:Referentin: Naila Rediske. Sexualberaterin und Paarberaterin in eigener Praxis \nEndometriose und Sexualität. Das Symptom der schmerzhaften Sexualität (Dyspareunie) ist eines der häufigsten mit Endometriose. In meinem Vortrag schaue ich genau auf dieses Symptom\, erkläre\, welche unterschiedlichen Formen es geben kann und inwiefern Aufklärung\, Körperbewusstsein\, die Stärkung der emotionalen Ebene und konkrete sexualtherapeutische Methoden und die richtigen Übungen helfen können. Egal ob du Single oder in Beziehung bist\, eine schmerzhafte Sexualität ist niemals normal und es gibt sehr viele sehr gut Lösungsansätze für dieses Symptom. Mein Vortrag gibt erste wichtige Einblicke in dieses Thema. \nÜber die Vortragende: \nIch bin Naila\, Sexual- und Paarberaterin mit Spezialisierung auf Menschen mit Endometriose. In meiner Praxis in Hamburg sowie online berate ich Endometriose-Betroffene im Einzel- und Paarsetting. Im Fokus stehen die Stärkung der Selbstbeziehung\, ein guter Umgang mit der Erkrankung und ein selbstbewusstes\, lebenswertes Leben trotz Endometriose. \nDurch meine zusätzliche Spezialisierung in der Sexualberatung unterstütze ich insbesondere bei schmerzhafter Sexualität. Dieses Symptom schränkt viele Betroffene stark ein – mit Aufklärung und sexualtherapeutischen Methoden helfe ich\, eine schmerzfreie und erfüllte Sexualität zu entwickeln. Schmerzen beim Sex sind niemals normal\, auch nicht bei Endometriose. \nAuf meinem Instagram-Kanal und in meinem Podcast kläre ich zu diesem Thema auf\, biete Beratungen und Kurse an. Im April 2026 erscheint im TRIAS Verlag ein Endometriose-Selbsthilfebuch\, das ich gemeinsam mit drei Kolleginnen geschrieben habe. \nwww.naila-rediske.de\n\nInstagram: @endo.pareunos\n\n\n 
URL:https://endometriose-oesterreich.at/event/endometriose-und-sexualitaet-am-13-06-2026/
LOCATION:Online
CATEGORIES:EndÖ Termine
END:VEVENT
BEGIN:VEVENT
DTSTART;TZID=Europe/Vienna:20260617T180000
DTEND;TZID=Europe/Vienna:20260617T193000
DTSTAMP:20260419T190441
CREATED:20260413T194417Z
LAST-MODIFIED:20260413T195201Z
UID:8141-1781719200-1781724600@endometriose-oesterreich.at
SUMMARY:Workshop: Beckenboden fühlen & verstehen am 17.06.2026
DESCRIPTION:Referentin: Christina Hopf\, Beckenboden-Fachfrau und Yogalehrerin \nIn diesem Workshop hast du die Gelegenheit\, deinen Beckenboden auf eine neue\, sanfte Art zu entdecken.\nDu lernst seinen Aufbau kennen\, verstehst seine Rolle für Haltung\, Stabilität und Wohlbefinden und bekommst praxisnahe Impulse\, wie du ihn durch achtsame Wahrnehmung\, Atmung und sanfte Bewegungen unterstützen kannst.\nNeben der Theorie und den Übungen ist auch Raum für Austausch\, Reflexion und deine persönlichen Erfahrungen.\nEin Workshop\, der Körperbewusstsein\, innere Verbindung und Selbstfürsorge stärkt.\nEs sind keine Vorkenntnisse notwendig. \nRichte dir bitte für den Workshop folgendes her:\n– Bequeme Kleidung\n– eine Matte oder Sessel\n(die prakt. Übungen können sowohl auf einer Matte oder auf einem Sessel sitzend durchgeführt werden) \nIch bin Christina\, Beckenboden-Fachfrau und Yogalehrerin.\nVor vier Jahren habe ich mein Herzensprojekt Im.Gefühl ins Leben gerufen\, um Frauen in jeder Lebensphase mit sanftem Beckenboden-Yoga und gezieltem Beckenboden-Training zu begleiten. \nMein Weg ist ein persönlicher: Durch meine eigene Erfahrung mit Vaginismus habe ich gelernt\, wie entscheidend Körperarbeit\, bewusste Atmung und Achtsamkeit sind\, um die Verbindung zum eigenen Körper und Beckenboden wiederzufinden. Heute ist es meine Mission\, den Beckenboden aus der Tabuzone zu holen und ihn für Frauen wieder spürbar und sichtbar zu machen. \nInstagram:\n@im.gefuehl \nFacebook:\nIm.Gefuehl
URL:https://endometriose-oesterreich.at/event/workshop-beckenboden-fuehlen-verstehen-am-17-06-2026/
LOCATION:Online
CATEGORIES:EndÖ Termine
END:VEVENT
BEGIN:VEVENT
DTSTART;TZID=Europe/Vienna:20260618T180000
DTEND;TZID=Europe/Vienna:20260618T193000
DTSTAMP:20260419T190441
CREATED:20251116T082014Z
LAST-MODIFIED:20251116T082014Z
UID:6405-1781805600-1781811000@endometriose-oesterreich.at
SUMMARY:Austauschtreffen für Betroffene am 18.06.2026
DESCRIPTION:Unsere Online-Austauschtreffen für Betroffene von Endometriose und Adenomyose konzentrieren sich auf den Austausch über Sorgen\, Probleme aber auch hilfreiche Ansätze und Erfolge. Jeder Beitrag ist wertvoll! Du hast die Möglichkeit\, Fragen zu stellen und deine persönliche Geschichte zu teilen. Nutze diese Gelegenheit\, um alles anzusprechen\, was dir auf dem Herzen liegt. \nBitte betrachte deine Anmeldung als verbindlich! Solltest du doch nicht teilnehmen können\, so bitten wir dich\, dass du uns rechtzeitig informierst.
URL:https://endometriose-oesterreich.at/event/austauschtreffen-06-18-2026/
LOCATION:Online
CATEGORIES:EndÖ Termine
END:VEVENT
END:VCALENDAR