BEGIN:VCALENDAR
VERSION:2.0
PRODID:-//EndÖ - Endometriose Österreich - ECPv6.15.20//NONSGML v1.0//EN
CALSCALE:GREGORIAN
METHOD:PUBLISH
X-WR-CALNAME:EndÖ - Endometriose Österreich
X-ORIGINAL-URL:https://endometriose-oesterreich.at
X-WR-CALDESC:Veranstaltungen für EndÖ - Endometriose Österreich
REFRESH-INTERVAL;VALUE=DURATION:PT1H
X-Robots-Tag:noindex
X-PUBLISHED-TTL:PT1H
BEGIN:VTIMEZONE
TZID:Europe/Vienna
BEGIN:DAYLIGHT
TZOFFSETFROM:+0100
TZOFFSETTO:+0200
TZNAME:CEST
DTSTART:20250330T010000
END:DAYLIGHT
BEGIN:STANDARD
TZOFFSETFROM:+0200
TZOFFSETTO:+0100
TZNAME:CET
DTSTART:20251026T010000
END:STANDARD
BEGIN:DAYLIGHT
TZOFFSETFROM:+0100
TZOFFSETTO:+0200
TZNAME:CEST
DTSTART:20260329T010000
END:DAYLIGHT
BEGIN:STANDARD
TZOFFSETFROM:+0200
TZOFFSETTO:+0100
TZNAME:CET
DTSTART:20261025T010000
END:STANDARD
BEGIN:DAYLIGHT
TZOFFSETFROM:+0100
TZOFFSETTO:+0200
TZNAME:CEST
DTSTART:20270328T010000
END:DAYLIGHT
BEGIN:STANDARD
TZOFFSETFROM:+0200
TZOFFSETTO:+0100
TZNAME:CET
DTSTART:20271031T010000
END:STANDARD
END:VTIMEZONE
BEGIN:VEVENT
DTSTART;TZID=Europe/Vienna:20260505T180000
DTEND;TZID=Europe/Vienna:20260505T200000
DTSTAMP:20260419T173110
CREATED:20260110T221445Z
LAST-MODIFIED:20260110T221622Z
UID:6841-1778004000-1778011200@endometriose-oesterreich.at
SUMMARY:Selbsthilfegruppe EndoPower.Wien am 05.05.2026
DESCRIPTION:Wir treffen uns jeden Monat am Dienstag um 18.00 Uhr.\n \nDauer: ca 2 Stunden \nTreffpunkt ist – wenn nicht anders angegeben: @thesocialhub in 1020 Nordbahnstraße 47 \n📍 Locations\, bzw kurzfristige Änderungen geben wir je Termin\, hier und auf der Homepage bekannt. \n📧Anmeldungen bitte via e-mail an: endopower.wien@gmail.com \n💭 „Darüber reden hilft“. Du bist nicht allein! 🫂 \n🔗 https://endopower-wien.at/ \n🎗️Insta: @ endopower.wien
URL:https://endometriose-oesterreich.at/event/endopower-wien-am-05-05-2026/
CATEGORIES:Andere SHG Termine
END:VEVENT
BEGIN:VEVENT
DTSTART;TZID=Europe/Vienna:20260507T180000
DTEND;TZID=Europe/Vienna:20260507T193000
DTSTAMP:20260419T173110
CREATED:20251116T085918Z
LAST-MODIFIED:20251116T085918Z
UID:6438-1778176800-1778182200@endometriose-oesterreich.at
SUMMARY:Austauschtreffen mit Vortrag - Die kompetente Patientin am 07.05.2026
DESCRIPTION:Die kompetente Patientin \nWas erwartet dich? \nHeute geht es um Selbstwirksamkeit\, für Betroffene mit den chronischen Erkrankungen Endometriose und Adenomyose.\nDas bedeutet: Wir behandeln in diesem Vortrag was deine Möglichkeiten sind und wie du sie in Anspruch nehmen kannst. Du sollst hier rausgehen mit dem Gedanken: „Ich kenne meine Rechte\, ich weiß\, wo ich ansetzen muss und ich kann Entscheidungen für mich treffen.“ \nZum Abschluss gibt es Zeit für deine Fragen. \nHinweis: Dieser Vortrag ersetzt keine ärztliche Beratung – er soll dir aber helfen\,\ndich im österreichischen Gesundheitssystem zu orientieren\, deine Rechte zu kennen\nund selbstbestimmt Entscheidungen zu treffen. \nVortragende: Teammitglieder der Patientinnen-Organisation Endometriose Österreich
URL:https://endometriose-oesterreich.at/event/dkp-austauschtreffen-05-07-2026/
LOCATION:Online
CATEGORIES:EndÖ Termine
END:VEVENT
BEGIN:VEVENT
DTSTART;TZID=Europe/Vienna:20260520T180000
DTEND;TZID=Europe/Vienna:20260520T193000
DTSTAMP:20260419T173110
CREATED:20251116T081759Z
LAST-MODIFIED:20251116T081759Z
UID:6402-1779300000-1779305400@endometriose-oesterreich.at
SUMMARY:Austauschtreffen für Betroffene am 20.05.2026
DESCRIPTION:Unsere Online-Austauschtreffen für Betroffene von Endometriose und Adenomyose konzentrieren sich auf den Austausch über Sorgen\, Probleme aber auch hilfreiche Ansätze und Erfolge. Jeder Beitrag ist wertvoll! Du hast die Möglichkeit\, Fragen zu stellen und deine persönliche Geschichte zu teilen. Nutze diese Gelegenheit\, um alles anzusprechen\, was dir auf dem Herzen liegt. \nBitte betrachte deine Anmeldung als verbindlich! Solltest du doch nicht teilnehmen können\, so bitten wir dich\, dass du uns rechtzeitig informierst.
URL:https://endometriose-oesterreich.at/event/austauschtreffen-05-20-2026/
LOCATION:Online
CATEGORIES:EndÖ Termine
END:VEVENT
BEGIN:VEVENT
DTSTART;TZID=Europe/Vienna:20260526T200000
DTEND;TZID=Europe/Vienna:20260526T213000
DTSTAMP:20260419T173110
CREATED:20260319T223407Z
LAST-MODIFIED:20260330T075903Z
UID:7799-1779825600-1779831000@endometriose-oesterreich.at
SUMMARY:Vortrag mit Übung: ENDOYOGA® erleben - fühlen\, annehmen\, loslassen. am 26.05.2026
DESCRIPTION:ENDOYOGA® Vortrag und Yoga Einheit (60min) – insg. 90 Min \nVortragende: Jasmin Scheffler \nIn diesem Online-Vortrag bekommst du einen Einblick in das Konzept von ENDOYOGA – einer sanften\, körperzentrierten Yogaform\, die speziell für Menschen mit Endometriose und anderen Beschwerden im Zyklus entwickelt wurde. ENDOYOGA unterstützt dich dabei\, dich selbst achtsamer wahrzunehmen\, körperliche und emotionale Spannungen anzunehmen und Schritt für Schritt loszulassen. \nNach dem kurzen Vortrag über die Wirkweise und Hintergründe von ENDOYOGA wirst du eingeladen\, gemeinsam eine 60-minütige Yogaeinheit zu erleben. Der Fokus liegt dabei auf Entlastung\, Selbstfürsorge und einem liebevollen Umgang mit deinem Körper. \nWas du für deine Yogaeinheit brauchst:\n(Bereite dich bitte vor dem Vortrag vor) \n– eine rutschfeste Unterlage / Yogamatte\n– Bequeme Kleidung\n– etwas zu Trinken / Tee\n– einen ruhigen Ort\, an dem du ungestört bist \nDie Veranstaltung findet online via Zoom statt- du kannst ganz entspannt von zu Hause teilnehmen. Für die Yogaeinheit bedarf es keine Vorkenntnisse im Yoga. Du kannst als Beginnerin teilnehmen oder als bereits geübte Yogini. \nÜber die Vortragende:\nich bin Jasmin Scheffler – Gründerin von Livija-dein Raum für Yoga und Coaching in Hamburg. Als zertifizierte Yoga- und ENDOYOGA-Lehrerin sowie Sozialpädagogin begleite ich Menschen mit Endometriose und alle\, die sich nach mehr innerere Freiheit sehnen. Mit Herz und einem ganzheitlichen Blick arbeite ich mit Vinyasa Yoga\, sanften Yogaeinheiten und ENDOYOGA® und begleite Menschen im Rahmen eines Coachings. Mein Anliegen ist es\, Räume zu schaffen\, in denen du dich selbst wieder spüren\, deinen Körper liebevoll wahrnehmen und in deine Kraft zurückfinden kannst. \nIch freue mich darauf\, dich beim Vortrag zu treffen und dich ein Stück auf deinem Weg begleiten zu dürfen. \nVon Herzen\, Jasmin
URL:https://endometriose-oesterreich.at/event/vortrag-mit-uebung-endoyoga-erleben-fuehlen-annehmen-loslassen-am-26-05-2026/
LOCATION:Online
CATEGORIES:EndÖ Termine
END:VEVENT
BEGIN:VEVENT
DTSTART;TZID=Europe/Vienna:20260527T180000
DTEND;TZID=Europe/Vienna:20260527T193000
DTSTAMP:20260419T173110
CREATED:20260328T103800Z
LAST-MODIFIED:20260328T104147Z
UID:7935-1779904800-1779910200@endometriose-oesterreich.at
SUMMARY:Vortrag mit Workshop: Selbstfürsorge – aber wie? am 27.05.2026
DESCRIPTION:„Schau auf dich“ ist oft leichter gesagt als getan.  Wissen\, Empowerment & Tipps für deinen Alltag mit Endometriose. \nVortragende: Mag.a Simone Arlits\, MA \nStarke Schmerzen durch Endometriose können dich in deinem (Arbeits-)Alltag mitunter massiv einschränken. Und doch: Du beißt dich durch. Hast als Frau gelernt zu funkionieren. Vielleicht empfindest du Scham\, weil du schon wieder Schmerzen hast. Vielleicht hast du das Gefühl\, mehr geben zu müssen\, um dich zu beweisen. In diesem Vortrag will ich dich stärken: Du bist ok\, auch wenn du nicht zu 100% funkionierst. Keiner muss das. \nDurch die Schmerzen\, den Druck\, den sich Betroﬀene machen\, den Mental Load und die emotionale Arbeit\, die viele Frauen zusätzlich schultern\, entsteht oft ein hohes Ausmaß an Stress. \nWir schauen uns gemeinsam Stressoren an\, die zum Teil unbewusst wirken\, sowie Möglichkeiten zur Stärkung deiner psychischen Widerstandskraft und du erhältst Tipps für Selbstfürsorge im Alltag\, die leicht umsetzbar und wirksam sind. Im Mittelpunkt dieses Webinars stehen Empowerment\, der Umgang mit Stress und das Fördern von Resilienz. \nAbout me: Ich bin Gründerin von for:rest und diplomierte Resilienz- und Mentaltrainerin sowie Stressmanagerin. Als Resilienz- und Mentaltrainerin zeige ich dir Möglichkeiten\, wie du deine psychische Widerstandskraft und mentale Stärke fördern und dadurch mit Herausforderungen und Belastungen im Alltag besser umgehen kannst. \nAls Stressmanagerin unterstütze ich dich dabei\, Ressourcen gezielt aufzubauen und deine Energie zu schützen sowie eine Balance zwischen Leistungsfähigkeit und Erholung zu finden. Mit praxisnahen Tools gebe ich dir Werkzeuge an die Hand\, mit denen du Stressauslöser frühzeitg erkennst und deinen Alltag gelassener gestaltest. \nMit meinen Klient:innen arbeite ich im Wiener Praxisraum\, online und outdoor zusammen. Eine wichtige Säule meiner Arbeit ist die Natur – sie ist Inspiration und Quelle für nachhaltigen Stressabbau. Ich integriere sie in meine Mentorings und Workshops und verbinde mein Wissen aus dem Waldbaden mit modernem Resilienztraining. Empowerment von Frauen ist mir dabei ein besonderes Anliegen\, da Frauen Stress anders erleben als Männer und häufiger betroﬀen sind. Die Auswirkungen von chronischem Stress habe ich selbst erlebt – mental und körperlich\, nachdem ich über 15 Jahre in der Medien- und Marketingbranche tätig war und als Führungskraft unter hohem Druck stand. Meine Klient:innen begleite ich mit umfangreicher Expertise und persönlicher Erfahrung mit einem ganzheitlich Ansatz – mind\, body & soul – auf ihrem Weg zu mehr Selbstverbundenheit\, Selbstbewusstsein\, Lebensfreude\, Klarheit und Ruhe. \nfor:rest bietet Mentorings\, Workshops und Vorträge für Privatpersonen und Firmen an. \nfor:rest | Mag.a Simone Arlits\, MA \nMail: hello@for-rest.at \nInstagram: @for.rest.mentoring \n 
URL:https://endometriose-oesterreich.at/event/vortrag-mit-workshop-selbstfuersorge-aber-wie-am-27-05-2026/
LOCATION:Online
CATEGORIES:EndÖ Termine
END:VEVENT
BEGIN:VEVENT
DTSTART;TZID=Europe/Vienna:20260530T090000
DTEND;TZID=Europe/Vienna:20260530T160000
DTSTAMP:20260419T173110
CREATED:20260319T222739Z
LAST-MODIFIED:20260319T222739Z
UID:7795-1780131600-1780156800@endometriose-oesterreich.at
SUMMARY:Fachtagung Endometriose\, Reproduktionsmedizin und informierte Familienplanung am 30.05.2026
DESCRIPTION:Fachtagung – 2. Frauengesundheitstag \nEndometriose\, Reproduktionsmedizin und informierte Familienplanung \nÄrztliche Fortbildung\n& Informationsveranstaltung \nDas Team des Referats für Frauenpolitik\, Gender und Diversity der Kammer für Ärztinnen und Ärzte in Wien und Frauengesundheit Wien laden herzlich zum 2. Frauengesundheitstag am Samstag\, 30. Mai 2026 ins Wiener Rathaus ein. \nZiel des 2. Frauengesundheitstages ist es einerseits\, den Fokus auf eine informierte Familienplanung unter Berücksichtigung der Möglichkeiten der Reproduktionsmedizin zu legen sowie andererseits das Bewusstsein für Endometriose als häufig unter- bzw. spät diagnostizierte und für Patientinnen sehr belastende Erkrankung zu stärken. Dabei richtet sich auch der 2. Frauengesundheitstag an Ärztinnen und Ärzte sowie an Betroffene. \nEndÖ ist mit einem Informationsstand vertreten.
URL:https://endometriose-oesterreich.at/event/endometriose-fachtagung/
LOCATION:Rathaus Wien
CATEGORIES:EndÖ Termine
END:VEVENT
END:VCALENDAR