BEGIN:VCALENDAR
VERSION:2.0
PRODID:-//EndÖ - Endometriose Österreich - ECPv6.15.20//NONSGML v1.0//EN
CALSCALE:GREGORIAN
METHOD:PUBLISH
X-WR-CALNAME:EndÖ - Endometriose Österreich
X-ORIGINAL-URL:https://endometriose-oesterreich.at
X-WR-CALDESC:Veranstaltungen für EndÖ - Endometriose Österreich
REFRESH-INTERVAL;VALUE=DURATION:PT1H
X-Robots-Tag:noindex
X-PUBLISHED-TTL:PT1H
BEGIN:VTIMEZONE
TZID:Europe/Vienna
BEGIN:DAYLIGHT
TZOFFSETFROM:+0100
TZOFFSETTO:+0200
TZNAME:CEST
DTSTART:20250330T010000
END:DAYLIGHT
BEGIN:STANDARD
TZOFFSETFROM:+0200
TZOFFSETTO:+0100
TZNAME:CET
DTSTART:20251026T010000
END:STANDARD
BEGIN:DAYLIGHT
TZOFFSETFROM:+0100
TZOFFSETTO:+0200
TZNAME:CEST
DTSTART:20260329T010000
END:DAYLIGHT
BEGIN:STANDARD
TZOFFSETFROM:+0200
TZOFFSETTO:+0100
TZNAME:CET
DTSTART:20261025T010000
END:STANDARD
BEGIN:DAYLIGHT
TZOFFSETFROM:+0100
TZOFFSETTO:+0200
TZNAME:CEST
DTSTART:20270328T010000
END:DAYLIGHT
BEGIN:STANDARD
TZOFFSETFROM:+0200
TZOFFSETTO:+0100
TZNAME:CET
DTSTART:20271031T010000
END:STANDARD
END:VTIMEZONE
BEGIN:VEVENT
DTSTART;TZID=Europe/Vienna:20260113T180000
DTEND;TZID=Europe/Vienna:20260113T200000
DTSTAMP:20260421T093959
CREATED:20260110T220525Z
LAST-MODIFIED:20260110T220639Z
UID:6827-1768327200-1768334400@endometriose-oesterreich.at
SUMMARY:Selbsthilfegruppe EndoPower.Wien am 13.01.2026
DESCRIPTION:Wir treffen uns jeden Monat am Dienstag um 18.00 Uhr.\n \nDauer: ca 2 Stunden \nTreffpunkt ist – wenn nicht anders angegeben: @thesocialhub in 1020 Nordbahnstraße 47 \n📍 Locations\, bzw kurzfristige Änderungen geben wir je Termin\, hier und auf der Homepage bekannt. \n📧Anmeldungen bitte via e-mail an: endopower.wien@gmail.com \n💭 „Darüber reden hilft“. Du bist nicht allein! 🫂 \n🔗 https://endopower-wien.at/ \n🎗️Insta: @ endopower.wien
URL:https://endometriose-oesterreich.at/event/endopower-wien-am-13-01-2026/
CATEGORIES:Andere SHG Termine
END:VEVENT
BEGIN:VEVENT
DTSTART;TZID=Europe/Vienna:20260116T180000
DTEND;TZID=Europe/Vienna:20260116T193000
DTSTAMP:20260421T093959
CREATED:20251116T093039Z
LAST-MODIFIED:20251116T094000Z
UID:6452-1768586400-1768591800@endometriose-oesterreich.at
SUMMARY:Q&A: Endo- Body- Balance bei Endometriose am 16.01.2026
DESCRIPTION:Referentin: Pia Hettich\, Physiotherapeutin mit osteopathischer Ausbildung und Mind-Body-Coach \nEndometriose kann ganz schön viel abverlangen – körperlich\, emotional und mental. In diesem Q&A geht es um praktische\, körperorientierte Bewältigungsstrategien\, die dich im Alltag unterstützen können: \nWie kannst du mit Schmerzen\, Erschöpfung und Überforderung umgehen? Was hilft deinem Nervensystem\, sich zu regulieren? Und wie findest du wieder Vertrauen und Sicherheit in deinem Körper? \nIch teile therapeutische Ansätze aus Physio\, Osteo und Mind- Body- Arbeit und zeige dir\, wie du über Bewegung\, Atmung und Achtsamkeit Schritt für Schritt wieder in deine Kraft kommen kannst. \nAls selbst Betroffene weiß ich\, wie herausfordernd Endometriose sein kann und wie sehr wir uns nach echter\, körperbasierter Unterstützung sehnen. Darum habe ich ein neues Programm entwickelt: Endo- Body- Balance\, ein 6 Wochen langer Online- Kurs\, der dich dabei begleitet\, Schmerzen zu reduzieren\, Energie aufzubauen und eine tiefere Verbindung zu deinem Körper zu finden. \nQ&A: Ein offener Raum für deine Fragen\, Austausch und Inspiration zum Thema Endo- Body- Balance. \n\n\n\n 
URL:https://endometriose-oesterreich.at/event/qa-endo-body-balance-16-01-26/
LOCATION:Online
CATEGORIES:EndÖ Termine
END:VEVENT
BEGIN:VEVENT
DTSTART;TZID=Europe/Vienna:20260122T180000
DTEND;TZID=Europe/Vienna:20260122T193000
DTSTAMP:20260421T093959
CREATED:20251116T075450Z
LAST-MODIFIED:20251116T075705Z
UID:6384-1769104800-1769110200@endometriose-oesterreich.at
SUMMARY:Austauschtreffen für Betroffene am 22.01.2026
DESCRIPTION:Unsere Online-Austauschtreffen für Betroffene von Endometriose und Adenomyose konzentrieren sich auf den Austausch über Sorgen\, Probleme aber auch hilfreiche Ansätze und Erfolge. Jeder Beitrag ist wertvoll! Du hast die Möglichkeit\, Fragen zu stellen und deine persönliche Geschichte zu teilen. Nutze diese Gelegenheit\, um alles anzusprechen\, was dir auf dem Herzen liegt. \nBitte betrachte deine Anmeldung als verbindlich! Solltest du doch nicht teilnehmen können\, so bitten wir dich\, dass du uns rechtzeitig informierst.
URL:https://endometriose-oesterreich.at/event/austauschtreffen-01-22-26/
LOCATION:Online
CATEGORIES:EndÖ Termine
END:VEVENT
BEGIN:VEVENT
DTSTART;TZID=Europe/Vienna:20260127T180000
DTEND;TZID=Europe/Vienna:20260127T193000
DTSTAMP:20260421T093959
CREATED:20251116T090354Z
LAST-MODIFIED:20251117T160835Z
UID:6431-1769536800-1769542200@endometriose-oesterreich.at
SUMMARY:Vortrag mit Workshop: Stark trotz Endometriose – Selbstfürsorge & mentale Strategien für mehr Lebensqualität am 27.01.2026
DESCRIPTION:Referentin: Annika Kneidinger\, Psychosoziale Beraterin in Ausbildung unter Supervision \nStark trotz Endometriose – Selbstfürsorge & mentale Strategien für mehr Lebensqualität. Endometriose fordert nicht nur körperlich\, sondern auch emotional. In diesem Workshop geht es darum\, wieder gut für dich selbst zu sorgen\, ohne schlechtes Gewissen. Du bekommst Impulse\, wie du deine mentale Stärke stärkst\, deine Ressourcen im Alltag nutzt und mit dir selbst liebevoller umgehst. Zum Abschluss begleitet dich eine Phantasiereise an deinen „sicheren Ort“\, ein Moment der Ruhe\, der dich daran erinnert: Du darfst loslassen und neue Kraft schöpfen. \n\n\nÜber die Vortragende: \nIch bin Annika\, Psychosoziale Beraterin in Ausbildung unter Supervision und Teil des Teams von EndÖ\, wo ich derzeit auch mein Praktikum absolviere. Ich weiß\, wie es sich anfühlt\, wenn der eigene Körper nicht mehr mitspielt\, wenn Schmerzen zum Alltag werden und man sich selbst irgendwo auf dem Weg verliert. Ich lebe mit Endometriose und Adenomyose\, zwei Diagnosen\, die nicht nur körperlich\, sondern auch seelisch fordern. \nDoch ich durfte erfahren\, wie viel sich verändern kann\, wenn man gesehen\, gehört und liebevoll begleitet wird. Mit der Unterstützung meiner eigenen Beraterin habe ich wieder gelernt\, mir selbst zuzuhören\, auf mein Bauchgefühl zu vertrauen und mein Leben nach meinen Bedürfnissen zu gestalten.
URL:https://endometriose-oesterreich.at/event/selbstfuersorge-mentale-strategien-27-01-2026/
LOCATION:Online
CATEGORIES:EndÖ Termine
END:VEVENT
END:VCALENDAR