BEGIN:VCALENDAR
VERSION:2.0
PRODID:-//EndÖ - Endometriose Österreich - ECPv6.15.20//NONSGML v1.0//EN
CALSCALE:GREGORIAN
METHOD:PUBLISH
X-ORIGINAL-URL:https://endometriose-oesterreich.at
X-WR-CALDESC:Veranstaltungen für EndÖ - Endometriose Österreich
REFRESH-INTERVAL;VALUE=DURATION:PT1H
X-Robots-Tag:noindex
X-PUBLISHED-TTL:PT1H
BEGIN:VTIMEZONE
TZID:Europe/Vienna
BEGIN:DAYLIGHT
TZOFFSETFROM:+0100
TZOFFSETTO:+0200
TZNAME:CEST
DTSTART:20240331T010000
END:DAYLIGHT
BEGIN:STANDARD
TZOFFSETFROM:+0200
TZOFFSETTO:+0100
TZNAME:CET
DTSTART:20241027T010000
END:STANDARD
BEGIN:DAYLIGHT
TZOFFSETFROM:+0100
TZOFFSETTO:+0200
TZNAME:CEST
DTSTART:20250330T010000
END:DAYLIGHT
BEGIN:STANDARD
TZOFFSETFROM:+0200
TZOFFSETTO:+0100
TZNAME:CET
DTSTART:20251026T010000
END:STANDARD
BEGIN:DAYLIGHT
TZOFFSETFROM:+0100
TZOFFSETTO:+0200
TZNAME:CEST
DTSTART:20260329T010000
END:DAYLIGHT
BEGIN:STANDARD
TZOFFSETFROM:+0200
TZOFFSETTO:+0100
TZNAME:CET
DTSTART:20261025T010000
END:STANDARD
END:VTIMEZONE
BEGIN:VEVENT
DTSTART;TZID=Europe/Vienna:20250901T200000
DTEND;TZID=Europe/Vienna:20251023T213000
DTSTAMP:20260421T211815
CREATED:20250830T102056Z
LAST-MODIFIED:20250830T102056Z
UID:5826-1756756800-1761255000@endometriose-oesterreich.at
SUMMARY:29. Jahrestagung der Endometriose-Vereinigung Deutschland: Gesprächsreihe zu „Endometriose – begleitende Beschwerden und Erkrankungen“
DESCRIPTION:Endometriose tritt selten allein auf. Viele Betroffene erleben neben den typischen Symptomen wie starken Regelschmerzen\, chronischen Unterbauchschmerzen oder Fertilitätsproblemen auch zahlreiche weitere begleitende Beschwerden und Erkrankungen – etwa Reizdarmsyndrom\, Migräne\, Fibromyalgie oder psychische Belastungen.\nTrotzdem bleibt die komplexe Gesamtsituation oft unerkannt oder wird isoliert behandelt. \nMit der neuen Gesprächsreihe „Endometriose – begleitende Beschwerden und Erkrankungen im Fokus“ werden diese Zusammenhänge ins Licht gerückt. Anlässlich der Jahrestagung der Endometriose-Vereinigung Deutschland startet ab dem ersten September 2025 das Projekt mit Live-Gesprächen auf Zoom.\nDiese werden im Anschluss als Video auf dem YouTube-Kanal der Endometriose-Vereinigung Deutschland veröffentlicht – verständlich erklärt und dauerhaft abrufbar. \nIm Sinne eines ganzheitlichen\, multimodalen Ansatzes sprechen wir dabei nicht nur mit Ärzt*innen und Therapeut*innen verschiedenster Fachrichtungen. Auch Betroffene selbst kommen zu Wort\, die durch ihren Alltag mit der doppelten Belastung von Endometriose und ihrer Begleitbeschwerde zu wahren Expert*innen ihrer Lebensrealität geworden sind. Ihre Erfahrungen bieten wertvolle Perspektiven auf Selbsthilfe\, Umgangsstrategien und Lebensqualität. \nZiel der Jahrestagung ist es\, Betroffene zu informieren\, zu stärken und ihnen konkrete Wege im Umgang mit Mehrfachbelastungen aufzuzeigen. Die Inhalte richten sich auch an Angehörige\, Selbsthilfeaktive sowie medizinisches Fachpersonal aus verschiedenen Disziplinen – für mehr Verständnis\, bessere Versorgung und eine ganzheitliche Sicht auf Endometriose. \nDie genauen Termine mit den jeweiligen Zoom-Links findet ihr bald hier!
URL:https://endometriose-oesterreich.at/event/29-jahrestagung-der-endometriose-vereinigung-deutschland-gespraechsreihe-zu-endometriose-begleitende-beschwerden-und-erkrankungen/
LOCATION:Online
CATEGORIES:Andere SHG Termine
END:VEVENT
BEGIN:VEVENT
DTSTART;TZID=Europe/Vienna:20250902T170000
DTEND;TZID=Europe/Vienna:20250902T180000
DTSTAMP:20260421T211815
CREATED:20250828T084119Z
LAST-MODIFIED:20250830T084307Z
UID:5789-1756832400-1756836000@endometriose-oesterreich.at
SUMMARY:Online-Vortrag vom Verein Chronisch Krank zum Thema Finanzielle Unterstützungsmöglichkeiten am 02.09.2025
DESCRIPTION:Am 02. September 2025 veranstaltet der Verein Chronisch Krank für euch einen Online-Vortag zum Thema Finanzielle Unterstützungsmöglichkeiten. \nWir möchten dabei einen konkreten Überblick über finanzielle Unterstützungsmöglichkeiten für chronisch Kranke Menschen bzw. deren Angehörigen bieten\, um Betroffenen hierzu eine umfassende Informationslage zu ermöglichen. Dabei wird vor allem auch auf die diversen Unterstützungsfonds der ÖGK eingegangen. \nDer Vortag ist sowohl für Betroffene\, Angehörige als auch für beruflich Interessierte geeignet. \nEine Teilnahme ist via ZOOM möglich. \nKosten: 30 Euro pro Person\, Sonderpreis für Vereinsmitglieder: 15 Euro \nBetrag bitte vorab auf folgendes Konto überweisen: Verein ChronischKrank®      Österreich IBAN: AT80 3456 0000 0332 4001         BIC: RZOOAT2L157          Verwendungszweck: Vortrag Finanzielle Unterstützungsmöglichkeiten + Name\, Geb.Datum \nDen Teilnahmelink erhalten Sie wenige Tage vor dem Vortrag in einer gesonderten Mail. \nAnmeldung unter: https://shorturl.at/zCm36 
URL:https://endometriose-oesterreich.at/event/online-vortrag-vom-verein-chronisch-krank-zum-thema-finanzielle-unterstuetzungsmoeglichkeiten/
CATEGORIES:Sonstige Termine
END:VEVENT
BEGIN:VEVENT
DTSTART;TZID=Europe/Vienna:20250902T180000
DTEND;TZID=Europe/Vienna:20250902T193000
DTSTAMP:20260421T211815
CREATED:20250803T065049Z
LAST-MODIFIED:20250830T083118Z
UID:5633-1756836000-1756841400@endometriose-oesterreich.at
SUMMARY:Vortrag: MCAS und die Macht der Gedanken am 02.09.2025
DESCRIPTION:Referentin: Pia Hettich\, Physiotherapeutin mit osteopathischer Ausbildung und Mind-Body-Coach \nWenn innere Stressoren das Immunsystem in Entzündung versetzen.\nMastzellaktivierung und chronische Entzündungen werden häufig ausschließlich als körperliche Reaktion betrachtet\, mit Fokus auf Histamin und Vermeidung. Doch viele Betroffene erleben\, dass ihre Symptome besonders in stressigen\, emotional herausfordernden Phasen aufflammen. MCAS führt oft in einen Alltag voller Kontrolle\, Vorsicht und Angst vor dem nächsten Schub. Doch genau diese innere Alarmbereitschaft kann zum stärksten Trigger selbst werden. \n\n\n\nIn diesem Vortrag beleuchten wir das Zusammenspiel von Gedankenwelt\, Nervensystem und Immunsystem\, und zeigen\, wie emotionale Stressmuster Mastzellen aktivieren können. Was es braucht\, ist nicht nur histaminarme Ernährung oder Reizvermeidung\, sondern auch einen neuen\, regulierenden Umgang mit sich selbst. Durch mentale und körperliche (somatische) Regulation kann wieder eine echte Sicherheit im eigenen Körper entstehen\, ganz ohne ständigen Alarmmodus. \n\nIch bin Pia (Hettich)\, Physiotherapeutin mit osteopathischer Ausbildung und Mind-Body-Coach. \nMeine Leidenschaft ist es\, Menschen mit chronischen Symptomen und Erkrankungen auf ihrem Weg zu mehr Verbindung\, innerer Sicherheit und Heilung zu begleiten. In meiner Praxis soma.physio in Wien arbeite ich ganzheitlich: mit Osteopathie\, Atemtherapie\, Nervensystemregulation und mentalen Techniken. \nGemeinsam mit meiner Kollegin Anja Mai entwickle ich unter dem Namen „body&mind – new healing way“ Online-Programme und Kurse für Menschen mit chronischen Erkrankungen. Dabei legen wir Wert auf ganzheitliche\, alltagstaugliche und tiefgehende Ansätze für mehr Heilung. 🙂
URL:https://endometriose-oesterreich.at/event/mcas-und-die-macht-der-gedanken-02-09-2025/
LOCATION:Online
CATEGORIES:EndÖ Termine
END:VEVENT
BEGIN:VEVENT
DTSTART;TZID=Europe/Vienna:20250905T170000
DTEND;TZID=Europe/Vienna:20250905T183000
DTSTAMP:20260421T211815
CREATED:20250108T081017Z
LAST-MODIFIED:20250108T081017Z
UID:3864-1757091600-1757097000@endometriose-oesterreich.at
SUMMARY:Austauschtreffen in Wels 05.09.2025
DESCRIPTION:Bei einem gemütlichen Beisammensein steht der Austausch im Mittelpunkt. Für Kaffee\, Tee und Snacks ist gesorgt. Gerne versuchen wir eure Fragen zu beantworten. \nFür die Anmeldung sende uns einfach ein Email an endo.oesterreich@endoe.at 🙂 Wir freuen uns auf dich!
URL:https://endometriose-oesterreich.at/event/austauschtreffen-in-wels-05-09-2025/
LOCATION:Vereinssitz EndÖ\, Hamerlingstraße 8\, Wels\, 4600\, Austria
CATEGORIES:EndÖ Termine
END:VEVENT
BEGIN:VEVENT
DTSTART;TZID=Europe/Vienna:20250907T150000
DTEND;TZID=Europe/Vienna:20250907T163000
DTSTAMP:20260421T211815
CREATED:20250814T082237Z
LAST-MODIFIED:20250814T082237Z
UID:5703-1757257200-1757262600@endometriose-oesterreich.at
SUMMARY:Austauschtreffen in Krems 07.09.2025
DESCRIPTION:Bei einem gemütlichen Beisammensein steht der Austausch im Mittelpunkt. Kaffee\, Tee und Snacks können wir im Stadtcafe Ulrich konsumieren. Gerne versuchen wir eure Fragen zu beantworten. \nFür die Anmeldung sende uns einfach ein Email an endo.oesterreich@endoe.at 🙂 Wir freuen uns auf dich!
URL:https://endometriose-oesterreich.at/event/austauschtreffen-in-krems-07-09-2025/
LOCATION:Ulrich – Das Stadtcafe Krems\, Südtirolerplatz 7\, Krems\, Niederösterreich\, 3500\, Austria
CATEGORIES:EndÖ Termine
END:VEVENT
BEGIN:VEVENT
DTSTART;TZID=Europe/Vienna:20250909T170000
DTEND;TZID=Europe/Vienna:20250909T180000
DTSTAMP:20260421T211815
CREATED:20250828T075954Z
LAST-MODIFIED:20250830T084332Z
UID:5786-1757437200-1757440800@endometriose-oesterreich.at
SUMMARY:Online-Vortrag vom Verein Chronisch Krank: Pflegefall - Was nun? Wege durch den Dschungel der Unterstützung am 09.09.2025
DESCRIPTION:Am 09. September 2025 veranstaltet der Verein Chronisch Krank für euch einen Online-Vortag unter dem Titel: Pflegefall – Was nun? Wege durch den Dschungel der Unterstützung. \nIn diesem Vortrag möchten wir einen konkreten Überblick geben\, welche Schritte sofort eingeleitet werden sollen beziehungsweise welche Möglichkeiten es in dieser Situation überhaupt gibt. Zudem werden die wichtigsten Eckdaten zum Pflegegeld besprochen. \nDer Vortag ist sowohl für Betroffene\, Angehörige als auch für beruflich Interessierte geeignet. \nEine Teilnahme ist via ZOOM möglich. \nKosten: 30 Euro pro Person\, Sonderpreis für Vereinsmitglieder: 15 Euro \nBetrag bitte vorab auf folgendes Konto überweisen: \nVerein ChronischKrank®      Österreich IBAN: AT80 3456 0000 0332 4001         BIC: RZOOAT2L157       Verwendungszweck: Vortrag Pflegegfall – Was nun? + Name\, Geb.Datum \nDen Teilnahmelink erhalten Sie wenige Tage vor dem Vortrag in einer gesonderten Mail. \nAnmeldung unter: https://shorturl.at/EcO9Q 
URL:https://endometriose-oesterreich.at/event/online-vortrag-vom-verein-chronisch-krank-pflegefall-was-nun-wege-durch-den-dschungel-der-unterstuetzung/
LOCATION:Online
CATEGORIES:Sonstige Termine
END:VEVENT
BEGIN:VEVENT
DTSTART;TZID=Europe/Vienna:20250915T170000
DTEND;TZID=Europe/Vienna:20250915T180000
DTSTAMP:20260421T211815
CREATED:20250828T075716Z
LAST-MODIFIED:20250830T084402Z
UID:5783-1757955600-1757959200@endometriose-oesterreich.at
SUMMARY:Online-Vortrag vom Verein Chronisch Krank: Wenn Arbeiten nicht mehr möglich ist - Was Du zur Berufsunfähigkeit wissen musst am 15.09.2025
DESCRIPTION:Am 15. September 2025 veranstaltet der Verein Chronisch Krank für euch einen Online-Vortag zum Thema Berufsunfähigkeit unter dem Titel: Wenn Arbeiten nicht mehr möglich ist – Was Du zur Berufsunfähigkeit wissen musst  \nWir behandeln die wichtigsten hard facts bezüglich Berufsunfähigkeit\, unsere Praxiserfahrungen und Tipps für Betroffene. \nDer Vortag ist sowohl für Betroffene\, Angehörige als auch für beruflich Interessierte geeignet. \nEine Teilnahme ist via ZOOM möglich. \nKosten: 30 Euro pro Person\, Sonderpreis für Vereinsmitglieder: 15 Euro\, Teilnahme inklusive BU-Zertifikat: 95 Euro \nBetrag bitte vorab auf folgendes Konto überweisen: Verein ChronischKrank®      Österreich IBAN: AT80 3456 0000 0332 4001         BIC: RZOOAT2L157\, Verwendungszweck: Vortrag BU Basis + Name\, Geb.Datum \nDen Teilnahmelink erhalten Sie wenige Tage vor dem Vortrag in einer gesonderten Mail. \nAnmeldung unter: https://shorturl.at/uGSux 
URL:https://endometriose-oesterreich.at/event/online-vortrag-vom-verein-chronisch-krank-wenn-arbeiten-nicht-mehr-moeglich-ist-was-du-zur-berufsunfaehigkeit-wissen-musst/
LOCATION:Online
CATEGORIES:Sonstige Termine
END:VEVENT
BEGIN:VEVENT
DTSTART;TZID=Europe/Vienna:20250918T180000
DTEND;TZID=Europe/Vienna:20250918T193000
DTSTAMP:20260421T211815
CREATED:20241110T121647Z
LAST-MODIFIED:20250830T085724Z
UID:3456-1758218400-1758223800@endometriose-oesterreich.at
SUMMARY:Austauschtreffen am 18.09.2025
DESCRIPTION:Unsere Online-Austauschtreffen konzentrieren sich auf den Austausch über Sorgen\, Probleme aber auch hilfreiche Ansätze und Erfolge. Jeder Beitrag ist wertvoll! Du hast die Möglichkeit\, Fragen zu stellen und deine persönliche Geschichte zu teilen. Nutze diese Gelegenheit\, um alles anzusprechen\, was dir auf dem Herzen liegt. \nBitte betrachte deine Anmeldung als verbindlich! Solltest du doch nicht teilnehmen können\, so bitten wir dich\, dass du uns rechtzeitig informierst.
URL:https://endometriose-oesterreich.at/event/austauschtreffen-8/
LOCATION:Online
CATEGORIES:EndÖ Termine
END:VEVENT
BEGIN:VEVENT
DTSTART;TZID=Europe/Vienna:20250923T170000
DTEND;TZID=Europe/Vienna:20250923T180000
DTSTAMP:20260421T211815
CREATED:20250830T074623Z
LAST-MODIFIED:20250926T083413Z
UID:5794-1758646800-1758650400@endometriose-oesterreich.at
SUMMARY:Online-Vortrag vom Verein Chronisch Krank zum Thema ME/CFS am 23.09.2025
DESCRIPTION:Am 23. September 2025 veranstaltet der Verein Chronisch Krank für euch einen Online-Vortag zum Thema ME/CFS. \nWir präsentieren dazu aktuelle Judikatur\, geben Einblicke in den Gesundheitsplan und die politische Arbeit\, sowie möchten wir über die rechtlichen Möglichkeiten und finanzielle Unterstützung für Betroffene aufklären. \nDer Vortag ist sowohl für Betroffene\, Angehörige als auch für beruflich Interessierte geeignet. \nEine Teilnahme ist via ZOOM möglich. \nKosten: 30 Euro pro Person\, Sonderpreis für Vereinsmitglieder: 15 Euro \nBetrag bitte vorab auf folgendes Konto überweisen: Verein ChronischKrank®Österreich \nIBAN: AT80 3456 0000 0332 4001\nBIC: RZOOAT2L157\nVerwendungszweck: Vortrag ME/CFS + Name\, Geb.Datum \nDen Teilnahmelink erhalten Sie wenige Tage vor dem Vortrag in einer gesonderten Mail. \nAnmeldung unter: https://shorturl.at/7tgSL
URL:https://endometriose-oesterreich.at/event/online-vortrag-vom-verein-chronisch-krank-zum-thema-me-cfs/
LOCATION:Online
CATEGORIES:Sonstige Termine
END:VEVENT
BEGIN:VEVENT
DTSTART;TZID=Europe/Vienna:20250925T183000
DTEND;TZID=Europe/Vienna:20250925T204500
DTSTAMP:20260421T211815
CREATED:20250814T082933Z
LAST-MODIFIED:20250830T085813Z
UID:5707-1758825000-1758833100@endometriose-oesterreich.at
SUMMARY:Selbsthilfegruppe Innsbruck am 25.09.2025
DESCRIPTION:Der nächste Termin der Selbsthilfe Endometriose Tirol findet am Montag\, den 25. September um 18:30 Uhr bis 20:45 statt: Austauschtreffen für Betroffene von Endometriose\n\n\n\n\nOrt: Dachverband Selbsthilfe\, Innrain 43\, Erdgeschoß\, Innsbruck\n\nDauer: Ca. 2 Stunden\n\nAnmeldung bei Gudrun per Mail: endo.tirol@gmail.com\nEine Anmeldung ist erforderlich. Begrenzte Plätze!\n\nUnsere Gruppe ermöglicht den persönlichen Austausch unter Betroffenen. Im Vordergrund steht die gegenseitige Unterstützung. Wir reden über unsere Erfahrungen und Sorgen\, über hilfreiche Ansätze und Erfolge. Du kannst deine Fragen stellen oder einfach nur zuhören. Wir freuen uns auf dein Kommen!
URL:https://endometriose-oesterreich.at/event/selbsthilfegruppe-innsbruck-2-2/
LOCATION:Dachverband Selbsthilfe Innsbruck\, Innrain 43\, Innsbruck\, Tirol\, 6020\, Österreich
CATEGORIES:Andere SHG Termine
END:VEVENT
BEGIN:VEVENT
DTSTART;TZID=Europe/Vienna:20250929T190000
DTEND;TZID=Europe/Vienna:20250929T200000
DTSTAMP:20260421T211815
CREATED:20250530T153322Z
LAST-MODIFIED:20250530T153322Z
UID:5062-1759172400-1759176000@endometriose-oesterreich.at
SUMMARY:Infoabend am 29.09.2025
DESCRIPTION:Bei diesem Infoabend informieren wir was Endometriose ist\, was alles damit zusammenhängt (Unerfüllter Kinderwunsch\, Starke Regelschmerzen\, Schmerzen beim Geschlechtsverkehr\, etc.)\, welche Diagnosemöglichkeiten und Therapien es gibt und steht für Fragen um das Thema Endometriose zur Verfügung. \nVeranstaltungsort: Eltern Kind Zentrum\, Dragonerstr. 44\, 4600 Wels \nFür die Anmeldung\, bis spätestens 2 Wochen vorher\, sende uns einfach ein Email an endo.oesterreich@endoe.at 🙂 Wir freuen uns auf dich!
URL:https://endometriose-oesterreich.at/event/infoabend-20-03-2025-2/
CATEGORIES:EndÖ Termine
END:VEVENT
BEGIN:VEVENT
DTSTART;TZID=Europe/Vienna:20250930T180000
DTEND;TZID=Europe/Vienna:20250930T190000
DTSTAMP:20260421T211815
CREATED:20250417T061135Z
LAST-MODIFIED:20250926T085631Z
UID:4756-1759255200-1759258800@endometriose-oesterreich.at
SUMMARY:Q&A: Endometriose und Adenomyose am 30.09.2025
DESCRIPTION:Referent: Assoz. Prof. Priv.Doz. Dr. Heinrich Husslein\, P.LLM \nDie Veranstaltung bietet an diesem Abend\, von 18:00 bis 19:00 Uhr\, die Möglichkeit Fragen zum Thema Endometriose und Adenomyose zu stellen. \nAssoz. Prof. Priv.Doz. Dr. Heinrich Husslein\, P.LLM\, ist Facharzt für Frauenheilkunde mit Schwerpunkt auf minimal-invasiver gynäkologischer Chirurgie. Er ist spezialisiert auf die Behandlung von Endometriose\, Myomen und daraus resultierender Infertilität sowie auf Beckenbodenprobleme wie Gebärmuttersenkung und Inkontinenz. Nach seiner Facharztausbildung in Wien\, Mistelbach und Klagenfurt absolvierte er ein zweijähriges klinisches Fellowship in laparoskopischer und vaginaler Chirurgie am St. Michael’s Hospital der University of Toronto (FMIGS\, Fellowship in minimal invasive gynecologis surgery).\nZusätzlich schloss er ein Masterstudium für Medizinrecht an der JKU Linz ab.\nDr. Husslein ist aktuell assoziierter Professor an der MedUni Wien und gesamtklinischer Oberarzt an der Abteilung für allgemeine Gynäkologie und gynäkologische Onkologie. Weiters ist er Leiter des Skills- und Simulationszentrums und stellvertretender Leiter des Endometriosezentrums. Er gehört zudem zum Team für Urogynäkologie und Beckenbodenchirurgie\, wo er auch im Vorstand der Arbeitsgemeinschaft für Urogynäkologie und Beckenbodenchirurgie tätig ist.
URL:https://endometriose-oesterreich.at/event/qa-endometriose-adenomyose-am-30-09-2025/
LOCATION:Online
CATEGORIES:EndÖ Termine
END:VEVENT
END:VCALENDAR