BEGIN:VCALENDAR
VERSION:2.0
PRODID:-//EndÖ - Endometriose Österreich - ECPv6.15.20//NONSGML v1.0//EN
CALSCALE:GREGORIAN
METHOD:PUBLISH
X-WR-CALNAME:EndÖ - Endometriose Österreich
X-ORIGINAL-URL:https://endometriose-oesterreich.at
X-WR-CALDESC:Veranstaltungen für EndÖ - Endometriose Österreich
REFRESH-INTERVAL;VALUE=DURATION:PT1H
X-Robots-Tag:noindex
X-PUBLISHED-TTL:PT1H
BEGIN:VTIMEZONE
TZID:Europe/Vienna
BEGIN:DAYLIGHT
TZOFFSETFROM:+0100
TZOFFSETTO:+0200
TZNAME:CEST
DTSTART:20240331T010000
END:DAYLIGHT
BEGIN:STANDARD
TZOFFSETFROM:+0200
TZOFFSETTO:+0100
TZNAME:CET
DTSTART:20241027T010000
END:STANDARD
BEGIN:DAYLIGHT
TZOFFSETFROM:+0100
TZOFFSETTO:+0200
TZNAME:CEST
DTSTART:20250330T010000
END:DAYLIGHT
BEGIN:STANDARD
TZOFFSETFROM:+0200
TZOFFSETTO:+0100
TZNAME:CET
DTSTART:20251026T010000
END:STANDARD
BEGIN:DAYLIGHT
TZOFFSETFROM:+0100
TZOFFSETTO:+0200
TZNAME:CEST
DTSTART:20260329T010000
END:DAYLIGHT
BEGIN:STANDARD
TZOFFSETFROM:+0200
TZOFFSETTO:+0100
TZNAME:CET
DTSTART:20261025T010000
END:STANDARD
END:VTIMEZONE
BEGIN:VEVENT
DTSTART;TZID=Europe/Vienna:20250603T183000
DTEND;TZID=Europe/Vienna:20250603T203000
DTSTAMP:20260422T021029
CREATED:20250104T091013Z
LAST-MODIFIED:20250105T110928Z
UID:3772-1748975400-1748982600@endometriose-oesterreich.at
SUMMARY:Selbsthilfegruppe EndoPower.Wien 03.06.2025
DESCRIPTION:Wir treffen uns jeden zweiten Monat am ersten Dienstag um 18.30 Uhr.\nDauer: ca. 2 Stunden\nDie Locations geben wir auf der Homepage bekannt: https://endopower-wien.at/\nFür Anmeldungen zu Gruppentreffen in Wien schreibe bitte an: endopower.wien@gmail.com
URL:https://endometriose-oesterreich.at/event/selbsthilfegruppe-endopower-wien-3/
CATEGORIES:Andere SHG Termine
END:VEVENT
BEGIN:VEVENT
DTSTART;TZID=Europe/Vienna:20250611T180000
DTEND;TZID=Europe/Vienna:20250611T190000
DTSTAMP:20260422T021029
CREATED:20250501T183016Z
LAST-MODIFIED:20250501T183016Z
UID:4853-1749664800-1749668400@endometriose-oesterreich.at
SUMMARY:Vortrag und Q&A: Adenomyose am 11.06.2025
DESCRIPTION:Referent: Prim. Univ.-Prof. Dr. Jörg Keckstein \nWährend der Begriff „Endometriose“ immer bekannter wird\, ist Adenomyose weiterhin eine weniger bekannte Diagnose. Sie kann sowohl allein als auch gemeinsam mit Endometriose auftreten. \nAn diesem Abend\, von 18:00 bis 19:00 Uhr\, informiert uns in einem Vortrag Prim. Univ.-Prof. Dr. J. Keckstein rund um Adenomyose. Anschließend besteht die Möglichkeit Fragen zu stellen.
URL:https://endometriose-oesterreich.at/event/vortrag-und-qa-adenomyose-am-29-04-2025-2/
LOCATION:Online
CATEGORIES:EndÖ Termine
END:VEVENT
BEGIN:VEVENT
DTSTART;TZID=Europe/Vienna:20250616T180000
DTEND;TZID=Europe/Vienna:20250616T193000
DTSTAMP:20260422T021029
CREATED:20241110T121158Z
LAST-MODIFIED:20250313T141411Z
UID:3450-1750096800-1750102200@endometriose-oesterreich.at
SUMMARY:Austauschtreffen mit Vortrag: ART im Jahr 2025 – Altbewährtes und neue Ansätze in der Kinderwunsch  und Endometriosetherapie 16.06.2025
DESCRIPTION:Referent: Univ.-Prof.Dr. Stefan Jirecek\, Facharzt für Frauenheilkunde und Geburtshilfe\, Leiter des Kinderwunschzentrums Döbling seit 2014 \nStefan Jirecek ist Frauenarzt\, der an der medizinischen Universität Wien promovierte und an der Universitätsklinik für Frauenheilkunde seine Ausbildung abschloss. Er spezialisierte sich an der Abteilung für gynäkologische Endokrinologie und Sterilitätstherapie im Bereich minimal invasive Sterilitätstherapie\, gynäkologische Endokrinologie und Kinderwunschtherapie. Er leitet seit 2014 das Kinderwunschzentrum Döbling der Privatklinik Döbling. \nDieses Online-Austauschtreffen konzentriert sich auf das Thema Kinderwunsch. Anschließend an den Vortrag findet ein Austausch über Sorgen\, Probleme aber auch hilfreiche Ansätze und Erfolge statt. Jeder Beitrag ist wertvoll! Du hast die Möglichkeit\, Fragen zu stellen und deine persönliche Geschichte zu teilen. Nutze diese Gelegenheit\, um alles anzusprechen\, was dir auf dem Herzen liegt. \nBitte betrachte deine Anmeldung als verbindlich! Solltest du doch nicht teilnehmen können\, so bitten wir dich\, dass du uns rechtzeitig informierst.
URL:https://endometriose-oesterreich.at/event/art-im-jahr-2025-altbewaehrtes-und-neue-ansaetze-in-der-kinderwunsch-und-endometriosetherapie/
LOCATION:Online
CATEGORIES:EndÖ Termine
END:VEVENT
BEGIN:VEVENT
DTSTART;TZID=Europe/Vienna:20250624T170000
DTEND;TZID=Europe/Vienna:20250624T180000
DTSTAMP:20260422T021029
CREATED:20250529T094540Z
LAST-MODIFIED:20250529T094540Z
UID:5054-1750784400-1750788000@endometriose-oesterreich.at
SUMMARY:Online-Vortrag zum Thema Pflegegeld am 24.06.2025
DESCRIPTION:Der Verein Chronisch Krank veranstaltet für euch einen Online-Vortag zum Thema Pflegegeld.  \nDie wichtigsten hard facts rund um das Thema Pflegegeld\, unsere Praxiserfahrungen und Tipps für Betroffene werden behandelt. \nDer Vortag ist sowohl für Betroffene\, Angehörige als auch für beruflich Interessierte geeignet. \nEine Teilnahme ist via ZOOM möglich. \nKosten: 30 Euro pro Person\, Sonderpreis für Vereinsmitglieder: 15 Euro \nBetrag bitte vorab auf folgendes Konto überweisen: Verein ChronischKrank®      Österreich IBAN: AT80 3456 0000 0332 4001         BIC: RZOOAT2L157 \nDen Teilnahmelink erhalten Sie wenige Tage vor dem Vortrag in einer gesonderten Mail. \nAnmeldung unter: https://lmy.de/UwDVG 
URL:https://endometriose-oesterreich.at/event/online-vortrag-zum-thema-pflegegeld-am-24-06-2025/
LOCATION:Online
CATEGORIES:Sonstige Termine
END:VEVENT
END:VCALENDAR