BEGIN:VCALENDAR
VERSION:2.0
PRODID:-//EndÖ - Endometriose Österreich - ECPv6.15.20//NONSGML v1.0//EN
CALSCALE:GREGORIAN
METHOD:PUBLISH
X-ORIGINAL-URL:https://endometriose-oesterreich.at
X-WR-CALDESC:Veranstaltungen für EndÖ - Endometriose Österreich
REFRESH-INTERVAL;VALUE=DURATION:PT1H
X-Robots-Tag:noindex
X-PUBLISHED-TTL:PT1H
BEGIN:VTIMEZONE
TZID:Europe/Vienna
BEGIN:DAYLIGHT
TZOFFSETFROM:+0100
TZOFFSETTO:+0200
TZNAME:CEST
DTSTART:20240331T010000
END:DAYLIGHT
BEGIN:STANDARD
TZOFFSETFROM:+0200
TZOFFSETTO:+0100
TZNAME:CET
DTSTART:20241027T010000
END:STANDARD
BEGIN:DAYLIGHT
TZOFFSETFROM:+0100
TZOFFSETTO:+0200
TZNAME:CEST
DTSTART:20250330T010000
END:DAYLIGHT
BEGIN:STANDARD
TZOFFSETFROM:+0200
TZOFFSETTO:+0100
TZNAME:CET
DTSTART:20251026T010000
END:STANDARD
BEGIN:DAYLIGHT
TZOFFSETFROM:+0100
TZOFFSETTO:+0200
TZNAME:CEST
DTSTART:20260329T010000
END:DAYLIGHT
BEGIN:STANDARD
TZOFFSETFROM:+0200
TZOFFSETTO:+0100
TZNAME:CET
DTSTART:20261025T010000
END:STANDARD
END:VTIMEZONE
BEGIN:VEVENT
DTSTART;TZID=Europe/Vienna:20250509T170000
DTEND;TZID=Europe/Vienna:20250509T183000
DTSTAMP:20260422T034617
CREATED:20250108T080932Z
LAST-MODIFIED:20250501T121019Z
UID:3862-1746810000-1746815400@endometriose-oesterreich.at
SUMMARY:Austauschtreffen in Wels am 09.05.2025
DESCRIPTION:Bei einem gemütlichen Beisammensein steht der Austausch im Mittelpunkt. Für Kaffee\, Tee und Snacks ist gesorgt. Gerne versuchen wir eure Fragen zu beantworten. \nIm Anschluss an die Austauschrunde bekommen wir eine Einführung in die Arbeit mit ätherischen Ölen und wie sie uns unterstützen können. \nFür die Anmeldung sende uns einfach ein Email an endo.oesterreich@endoe.at 🙂 Wir freuen uns auf dich!
URL:https://endometriose-oesterreich.at/event/austauschtreffen-in-wels-09-05-2025/
LOCATION:Vereinssitz EndÖ\, Hamerlingstraße 8\, Wels\, 4600\, Austria
CATEGORIES:EndÖ Termine
END:VEVENT
BEGIN:VEVENT
DTSTART;TZID=Europe/Vienna:20250509T170000
DTEND;TZID=Europe/Vienna:20250509T190000
DTSTAMP:20260422T034617
CREATED:20250311T121205Z
LAST-MODIFIED:20250330T180927Z
UID:4540-1746810000-1746817200@endometriose-oesterreich.at
SUMMARY:Vortrag: Selbstbewusst im Ärzt:innengespräch am 09.05.2025
DESCRIPTION:Referentin: Kathrin Leppla \nKathrin Leppla arbeitet seit vielen Jahren im Bereich Selbststärkung\, Auftritt und wie wir uns als Frauen so positionieren können\, dass Gespräche ein für uns gewünschtes Ergebnis bringen koennen.  \nKennst Du diese Situation\, dass Du mit vielen Fragen in ein Gespräch gehst und dann passiert irgendetwas\, dass Du nicht benennen kannst und es führt dazu\, dass Du nicht die Antworten bekommst die Du brauchst? Dass Du vielleicht aus dem Gespräch rausgehst mit dem Gefühl von \,klein sein‘? \nIn diesem Impulsvortrag mit Workshop-Elementen stellt Kathrin ein Modell vor\, dass uns hilft diesen Mechanismus zu verstehen\, vielleicht in eigenen Lebenssituationen wieder zu erkennen.\nIm Workshop-Teil üben wir dann neue gewünschte Verhaltensweisen\, und das hoffentlich mit viel Spaß und Unterhaltung. \nhttp://leppla-coaching.at \n  \n 
URL:https://endometriose-oesterreich.at/event/selbstbewusst-im-aerztinnengespraech/
LOCATION:Online
CATEGORIES:EndÖ Termine
END:VEVENT
BEGIN:VEVENT
DTSTART;TZID=Europe/Vienna:20250513T170000
DTEND;TZID=Europe/Vienna:20250513T180000
DTSTAMP:20260422T034617
CREATED:20250425T084517Z
LAST-MODIFIED:20250425T084517Z
UID:4783-1747155600-1747159200@endometriose-oesterreich.at
SUMMARY:Online-Vortrag zum Thema Behindertenpass und Parkausweis am 13.05.2025
DESCRIPTION:Der Verein Chronisch Krank veranstaltet einen Online-Vortag zum Thema Behindertenpass und Zusatzeintragung Parkausweis. Es werden die wichtigsten hard facts rund um den Behindertenpass und den Parkausweis behandelt sowie erläutern sie ihre Praxiserfahrungen und geben Tipps für Betroffene. Der Vortag ist sowohl für Betroffene\, Angehörige als auch für beruflich Interessierte geeignet. \nKosten: 30€ pro Person Sonderpreis für Vereinsmitglieder: 15€ \nAnmeldung unter: https://lmy.de/eEbWu  
URL:https://endometriose-oesterreich.at/event/online-vortrag-zum-thema-behindertenpass-und-parkausweis-am-13-05-2025/
LOCATION:Online
CATEGORIES:Sonstige Termine
END:VEVENT
BEGIN:VEVENT
DTSTART;TZID=Europe/Vienna:20250515T190000
DTEND;TZID=Europe/Vienna:20250515T200000
DTSTAMP:20260422T034617
CREATED:20250501T103103Z
LAST-MODIFIED:20250501T103144Z
UID:4826-1747335600-1747339200@endometriose-oesterreich.at
SUMMARY:Online Vortrag: Mental Load... oder nicht der Rede wert? am 15.05.2025
DESCRIPTION:Der Dachverband der Selbsthilfe lädt\, selbst betroffene EndÖ-Mitglieder\, ein an einem (für Teilnehmenden kostenlosen) Onlinevortrag via Zoom teilzunehmen.\n\n \nMental Load bezeichnet im deutschen Sprachraum vorrangig die mentale Belastung\, die durch das Organisieren von Alltagsaufgaben entsteht\, die gemeinhin als nicht der Rede wert erachtet werden und somit weitgehend unsichtbar sind.  Also die Last der alltäglichen\, unsichtbaren Verantwortung für das Organisieren von Haushalt und Familie im Privaten\, das Koordinieren und Vermitteln im beruflichen und im ehrenamtlichen Kontext sowie die Beziehungspflege und das Auffangen der Bedürfnisse und Befindlichkeiten aller Beteiligten… und wer macht das alles?\n\n• Warum sieht meine Überbelastung niemand?\n• Warum hilft mir keiner – oder lasse ich mir etwa nicht gerne helfen?\n• Wieviel ist normal und ab wann wird es zu viel?\n• Warum trifft dieser unsichtbare Stress gerade mich?\n• Wie gehen wir mit mentaler Überbelastung um?\n\nMethode: Onlinevortrag via Zoom (… daraus soll sich im Laufe des Abends ein Dialog bzw. eine lebendige Diskussion entwickeln)\n\nReferentin: Bettina Horninger(fachlich professionelle Begleitung und Psychosoziale Beratung – Lebens- und Sozialberatung) \nAnmeldung: office@selbsthilfe-ooe.at
URL:https://endometriose-oesterreich.at/event/online-vortrag-mental-load-oder-nicht-der-rede-wert/
LOCATION:Online
CATEGORIES:Sonstige Termine
END:VEVENT
BEGIN:VEVENT
DTSTART;TZID=Europe/Vienna:20250516T170000
DTEND;TZID=Europe/Vienna:20250516T190000
DTSTAMP:20260422T034617
CREATED:20250311T120028Z
LAST-MODIFIED:20250330T181235Z
UID:4536-1747414800-1747422000@endometriose-oesterreich.at
SUMMARY:Vortrag: Endometriose im MRT diagnostizieren – geht das wirklich? am 16.05.2025
DESCRIPTION:Referentin: PD Dr. med. Céline D. Alt \nFrau Dr. Alt ist Fachärztin für Radiologie. Sie hat ihre Facharztausbildung am Universitätsklinikum Heidelberg absolviert und ist seit 2019 Privatdozentin an der Heinrich-Heine-Universität Düsseldorf. Ihr radiologischer Schwerpunkt liegt seit 2009 in der gynäkologischen Becken-MRT\, die MRT-Diagnostik bei Endometriose hat sie seit Anfang 2020 in den Mittelpunkt ihrer klinisch-radiologischen Arbeit im ambulanten Bereich gestellt. Sie ist in Fachkreisen eine anerkannte Spezialistin für die MRT bei Endometriose und hat sich im Oktober 2024 privatärztlich niedergelassen\, um sich mit ihrer schulmedizinischen Expertise und einer ganzheitlichen Herangehensweise fokussiert um die Befundung der MRT bei Endometriose zu kümmern.\n \nNach dem Vortrag gibt es die Möglichkeit Fragen zu stellen.
URL:https://endometriose-oesterreich.at/event/endometriose-im-mrt-diagnostizieren-geht-das-wirklich/
LOCATION:Online
CATEGORIES:EndÖ Termine
END:VEVENT
BEGIN:VEVENT
DTSTART;TZID=Europe/Vienna:20250517T100000
DTEND;TZID=Europe/Vienna:20250517T120000
DTSTAMP:20260422T034617
CREATED:20250310T065016Z
LAST-MODIFIED:20250310T065016Z
UID:4523-1747476000-1747483200@endometriose-oesterreich.at
SUMMARY:Austauschtreffen Endometriose Tirol am 17.05.2025
DESCRIPTION:Das nächste Treffen der Selbsthilfe Endometriose Tirol findet am Samstag\, den 17. Mai um 10 Uhr statt.\n\n\n\nOrt: Dachverband Selbsthilfe\, Innrain 43\, Erdgeschoß\, Innsbruck\n\nDauer: Ca. 2 Stunden\n \nAnmeldung bei Gudrun per Mail: endo.tirol@gmail.com \nEine Anmeldung ist erforderlich. Die Teilnahme ist kostenlos. Begrenzte Plätze!\n \nUnsere Treffen ermöglichen den persönlichen Austausch unter Betroffenen. Im Vordergrund steht die gegenseitige Unterstützung. Wir reden über unsere Erfahrungen und Sorgen\, über hilfreiche Ansätze und Erfolge. Du kannst deine Fragen stellen oder einfach nur zuhören. Wir freuen uns auf dein Kommen!
URL:https://endometriose-oesterreich.at/event/austauschtreffen-endometriose-tirol-am-17-05-2025/
LOCATION:Dachverband Selbsthilfe Innsbruck\, Innrain 43\, Innsbruck\, Tirol\, 6020\, Österreich
CATEGORIES:Andere SHG Termine
END:VEVENT
BEGIN:VEVENT
DTSTART;TZID=Europe/Vienna:20250523T180000
DTEND;TZID=Europe/Vienna:20250523T193000
DTSTAMP:20260422T034617
CREATED:20241110T121017Z
LAST-MODIFIED:20250516T084005Z
UID:3448-1748023200-1748028600@endometriose-oesterreich.at
SUMMARY:Austauschtreffen am 23.05.2025
DESCRIPTION:Unsere Online-Austauschtreffen konzentrieren sich auf den Austausch über Sorgen\, Probleme aber auch hilfreiche Ansätze und Erfolge. Jeder Beitrag ist wertvoll! Du hast die Möglichkeit\, Fragen zu stellen und deine persönliche Geschichte zu teilen. Nutze diese Gelegenheit\, um alles anzusprechen\, was dir auf dem Herzen liegt. \nBitte betrachte deine Anmeldung als verbindlich! Solltest du doch nicht teilnehmen können\, so bitten wir dich\, dass du uns rechtzeitig informierst.
URL:https://endometriose-oesterreich.at/event/austauschtreffen-4/
LOCATION:Online
CATEGORIES:EndÖ Termine
END:VEVENT
BEGIN:VEVENT
DTSTART;TZID=Europe/Vienna:20250527T170000
DTEND;TZID=Europe/Vienna:20250527T180000
DTSTAMP:20260422T034617
CREATED:20250501T102105Z
LAST-MODIFIED:20250501T102133Z
UID:4822-1748365200-1748368800@endometriose-oesterreich.at
SUMMARY:Online Vortrag zum Thema Berufsunfähigkeit am 27.05.2025
DESCRIPTION:Chronisch Krank veranstaltet einen Online-Vortag zum Thema Berufsunfähigkeit\, BU-Basis.  Es werden die wichtigsten hard facts bezüglich Berufsunfähigkeit\, unsere Praxiserfahrungen und Tipps für Betroffene behandelt.\nDer Vortag ist sowohl für Betroffene\, Angehörige als auch für beruflich Interessierte geeignet. \nEine Teilnahme ist via ZOOM möglich. \nKosten: 30 Euro pro Person\nSonderpreis für Vereinsmitglieder: 15 Euro\nTeilnahme inklusive BU-Zertifikat: 95 Euro \nDen Teilnahmelink erhalten Sie wenige Tage vor dem Vortrag in einer gesonderten Mail. \nAnmeldung unter: https://lmy.de/wpeSh  
URL:https://endometriose-oesterreich.at/event/online-vortrag-zum-thema-berufsunfaehigkeit-2/
LOCATION:Online
CATEGORIES:Sonstige Termine
END:VEVENT
END:VCALENDAR