BEGIN:VCALENDAR
VERSION:2.0
PRODID:-//EndÖ - Endometriose Österreich - ECPv6.15.20//NONSGML v1.0//EN
CALSCALE:GREGORIAN
METHOD:PUBLISH
X-ORIGINAL-URL:https://endometriose-oesterreich.at
X-WR-CALDESC:Veranstaltungen für EndÖ - Endometriose Österreich
REFRESH-INTERVAL;VALUE=DURATION:PT1H
X-Robots-Tag:noindex
X-PUBLISHED-TTL:PT1H
BEGIN:VTIMEZONE
TZID:Europe/Vienna
BEGIN:DAYLIGHT
TZOFFSETFROM:+0100
TZOFFSETTO:+0200
TZNAME:CEST
DTSTART:20250330T010000
END:DAYLIGHT
BEGIN:STANDARD
TZOFFSETFROM:+0200
TZOFFSETTO:+0100
TZNAME:CET
DTSTART:20251026T010000
END:STANDARD
BEGIN:DAYLIGHT
TZOFFSETFROM:+0100
TZOFFSETTO:+0200
TZNAME:CEST
DTSTART:20260329T010000
END:DAYLIGHT
BEGIN:STANDARD
TZOFFSETFROM:+0200
TZOFFSETTO:+0100
TZNAME:CET
DTSTART:20261025T010000
END:STANDARD
BEGIN:DAYLIGHT
TZOFFSETFROM:+0100
TZOFFSETTO:+0200
TZNAME:CEST
DTSTART:20270328T010000
END:DAYLIGHT
BEGIN:STANDARD
TZOFFSETFROM:+0200
TZOFFSETTO:+0100
TZNAME:CET
DTSTART:20271031T010000
END:STANDARD
END:VTIMEZONE
BEGIN:VEVENT
DTSTART;TZID=Europe/Vienna:20261022T180000
DTEND;TZID=Europe/Vienna:20261022T193000
DTSTAMP:20260420T040205
CREATED:20260222T075546Z
LAST-MODIFIED:20260222T075546Z
UID:7448-1792692000-1792697400@endometriose-oesterreich.at
SUMMARY:Vortrag mit Workshop: Stark trotz Endometriose – Selbstfürsorge & mentale Strategien für mehr Lebensqualität am 22.10.2026
DESCRIPTION:Referentin: Annika Kneidinger\, Psychosoziale Beraterin in Ausbildung unter Supervision \nStark trotz Endometriose – Selbstfürsorge & mentale Strategien für mehr Lebensqualität. Endometriose fordert nicht nur körperlich\, sondern auch emotional. In diesem Workshop geht es darum\, wieder gut für dich selbst zu sorgen\, ohne schlechtes Gewissen. Du bekommst Impulse\, wie du deine mentale Stärke stärkst\, deine Ressourcen im Alltag nutzt und mit dir selbst liebevoller umgehst. Zum Abschluss begleitet dich eine Phantasiereise an deinen „sicheren Ort“\, ein Moment der Ruhe\, der dich daran erinnert: Du darfst loslassen und neue Kraft schöpfen. \n\n\nÜber die Vortragende: \nIch bin Annika\, Psychosoziale Beraterin in Ausbildung unter Supervision und Teil des Teams von EndÖ\, wo ich derzeit auch mein Praktikum absolviere. Ich weiß\, wie es sich anfühlt\, wenn der eigene Körper nicht mehr mitspielt\, wenn Schmerzen zum Alltag werden und man sich selbst irgendwo auf dem Weg verliert. Ich lebe mit Endometriose und Adenomyose\, zwei Diagnosen\, die nicht nur körperlich\, sondern auch seelisch fordern. \nDoch ich durfte erfahren\, wie viel sich verändern kann\, wenn man gesehen\, gehört und liebevoll begleitet wird. Mit der Unterstützung meiner eigenen Beraterin habe ich wieder gelernt\, mir selbst zuzuhören\, auf mein Bauchgefühl zu vertrauen und mein Leben nach meinen Bedürfnissen zu gestalten.
URL:https://endometriose-oesterreich.at/event/selbstfuersorge/
LOCATION:Online
CATEGORIES:EndÖ Termine
END:VEVENT
END:VCALENDAR