BEGIN:VCALENDAR
VERSION:2.0
PRODID:-//EndÖ - Endometriose Österreich - ECPv6.15.20//NONSGML v1.0//EN
CALSCALE:GREGORIAN
METHOD:PUBLISH
X-WR-CALNAME:EndÖ - Endometriose Österreich
X-ORIGINAL-URL:https://endometriose-oesterreich.at
X-WR-CALDESC:Veranstaltungen für EndÖ - Endometriose Österreich
REFRESH-INTERVAL;VALUE=DURATION:PT1H
X-Robots-Tag:noindex
X-PUBLISHED-TTL:PT1H
BEGIN:VTIMEZONE
TZID:Europe/Vienna
BEGIN:DAYLIGHT
TZOFFSETFROM:+0100
TZOFFSETTO:+0200
TZNAME:CEST
DTSTART:20250330T010000
END:DAYLIGHT
BEGIN:STANDARD
TZOFFSETFROM:+0200
TZOFFSETTO:+0100
TZNAME:CET
DTSTART:20251026T010000
END:STANDARD
BEGIN:DAYLIGHT
TZOFFSETFROM:+0100
TZOFFSETTO:+0200
TZNAME:CEST
DTSTART:20260329T010000
END:DAYLIGHT
BEGIN:STANDARD
TZOFFSETFROM:+0200
TZOFFSETTO:+0100
TZNAME:CET
DTSTART:20261025T010000
END:STANDARD
BEGIN:DAYLIGHT
TZOFFSETFROM:+0100
TZOFFSETTO:+0200
TZNAME:CEST
DTSTART:20270328T010000
END:DAYLIGHT
BEGIN:STANDARD
TZOFFSETFROM:+0200
TZOFFSETTO:+0100
TZNAME:CET
DTSTART:20271031T010000
END:STANDARD
END:VTIMEZONE
BEGIN:VEVENT
DTSTART;TZID=Europe/Vienna:20260804T180000
DTEND;TZID=Europe/Vienna:20260804T200000
DTSTAMP:20260420T001328
CREATED:20260110T221855Z
LAST-MODIFIED:20260110T221855Z
UID:6847-1785866400-1785873600@endometriose-oesterreich.at
SUMMARY:Selbsthilfegruppe EndoPower.Wien am 04.08.2026
DESCRIPTION:Wir treffen uns jeden Monat am Dienstag um 18.00 Uhr.\n \nDauer: ca 2 Stunden \nTreffpunkt ist – wenn nicht anders angegeben: @thesocialhub in 1020 Nordbahnstraße 47 \n📍 Locations\, bzw kurzfristige Änderungen geben wir je Termin\, hier und auf der Homepage bekannt. \n📧Anmeldungen bitte via e-mail an: endopower.wien@gmail.com \n💭 „Darüber reden hilft“. Du bist nicht allein! 🫂 \n🔗 https://endopower-wien.at/ \n🎗️Insta: @ endopower.wien
URL:https://endometriose-oesterreich.at/event/endopower-wien-am-04-08-2026/
CATEGORIES:Andere SHG Termine
END:VEVENT
END:VCALENDAR