BEGIN:VCALENDAR
VERSION:2.0
PRODID:-//EndÖ - Endometriose Österreich - ECPv6.15.20//NONSGML v1.0//EN
CALSCALE:GREGORIAN
METHOD:PUBLISH
X-WR-CALNAME:EndÖ - Endometriose Österreich
X-ORIGINAL-URL:https://endometriose-oesterreich.at
X-WR-CALDESC:Veranstaltungen für EndÖ - Endometriose Österreich
REFRESH-INTERVAL;VALUE=DURATION:PT1H
X-Robots-Tag:noindex
X-PUBLISHED-TTL:PT1H
BEGIN:VTIMEZONE
TZID:Europe/Vienna
BEGIN:DAYLIGHT
TZOFFSETFROM:+0100
TZOFFSETTO:+0200
TZNAME:CEST
DTSTART:20250330T010000
END:DAYLIGHT
BEGIN:STANDARD
TZOFFSETFROM:+0200
TZOFFSETTO:+0100
TZNAME:CET
DTSTART:20251026T010000
END:STANDARD
BEGIN:DAYLIGHT
TZOFFSETFROM:+0100
TZOFFSETTO:+0200
TZNAME:CEST
DTSTART:20260329T010000
END:DAYLIGHT
BEGIN:STANDARD
TZOFFSETFROM:+0200
TZOFFSETTO:+0100
TZNAME:CET
DTSTART:20261025T010000
END:STANDARD
BEGIN:DAYLIGHT
TZOFFSETFROM:+0100
TZOFFSETTO:+0200
TZNAME:CEST
DTSTART:20270328T010000
END:DAYLIGHT
BEGIN:STANDARD
TZOFFSETFROM:+0200
TZOFFSETTO:+0100
TZNAME:CET
DTSTART:20271031T010000
END:STANDARD
END:VTIMEZONE
BEGIN:VEVENT
DTSTART;TZID=Europe/Vienna:20260605T150000
DTEND;TZID=Europe/Vienna:20260605T163000
DTSTAMP:20260419T190051
CREATED:20260213T211728Z
LAST-MODIFIED:20260213T211923Z
UID:7384-1780671600-1780677000@endometriose-oesterreich.at
SUMMARY:Vortrag: Chronische Beckenschmerzen neu denken - Endometriose und Gefässkompressionsyndrome am 5.06.2026
DESCRIPTION:Referent: Dr. med. Andreas Putz \nVortrag zum Thema Chronische Beckenschmerzen neu denken – Endometriose und Gefässkompressionsyndrome. \nEs besteht im Anschluss an den Vortrag die Möglichkeit Fragen zu stellen. \nDr. med. Andreas Putz beschäftigt sich seit 1999 schwerpunktmäßig mit Endometriose und seit 2013 mit Neuropelveologie. \n1978 bis 1984 Studium der Humammedizin in Aachen\n1984 bis 1989 Facharztausbildung in Dortmund und Duisburg\n1989 bis 1993 Oberarzt in Duisburg\nNach 1993 leitende Stellen in Dortmund\, Molde (N) und Tønsberg (N)\nSeit 2021 Leitender Arzt der Frauenklinik im Dietrich-Bonhoeffer-Klinikum Neubrandenburg und Leiter des Zentrums für Endometriose und Neuropelveologie\nZwischenzeitlich mehrere Auslandsaufenthalte in Villach (AT)\, Negrar (I)\, Pune (IND)\, Toronto (CAN)\, Sao Paolo (BR)
URL:https://endometriose-oesterreich.at/event/chronische-beckenschmerzen-neu-denken-endometriose-und-gefaesskompressionsyndrome-am-5-06-2026/
LOCATION:Online
CATEGORIES:EndÖ Termine
END:VEVENT
END:VCALENDAR