BEGIN:VCALENDAR
VERSION:2.0
PRODID:-//EndÖ - Endometriose Österreich - ECPv6.15.20//NONSGML v1.0//EN
CALSCALE:GREGORIAN
METHOD:PUBLISH
X-ORIGINAL-URL:https://endometriose-oesterreich.at
X-WR-CALDESC:Veranstaltungen für EndÖ - Endometriose Österreich
REFRESH-INTERVAL;VALUE=DURATION:PT1H
X-Robots-Tag:noindex
X-PUBLISHED-TTL:PT1H
BEGIN:VTIMEZONE
TZID:Europe/Vienna
BEGIN:DAYLIGHT
TZOFFSETFROM:+0100
TZOFFSETTO:+0200
TZNAME:CEST
DTSTART:20250330T010000
END:DAYLIGHT
BEGIN:STANDARD
TZOFFSETFROM:+0200
TZOFFSETTO:+0100
TZNAME:CET
DTSTART:20251026T010000
END:STANDARD
BEGIN:DAYLIGHT
TZOFFSETFROM:+0100
TZOFFSETTO:+0200
TZNAME:CEST
DTSTART:20260329T010000
END:DAYLIGHT
BEGIN:STANDARD
TZOFFSETFROM:+0200
TZOFFSETTO:+0100
TZNAME:CET
DTSTART:20261025T010000
END:STANDARD
BEGIN:DAYLIGHT
TZOFFSETFROM:+0100
TZOFFSETTO:+0200
TZNAME:CEST
DTSTART:20270328T010000
END:DAYLIGHT
BEGIN:STANDARD
TZOFFSETFROM:+0200
TZOFFSETTO:+0100
TZNAME:CET
DTSTART:20271031T010000
END:STANDARD
END:VTIMEZONE
BEGIN:VEVENT
DTSTART;TZID=Europe/Vienna:20260527T180000
DTEND;TZID=Europe/Vienna:20260527T193000
DTSTAMP:20260419T190441
CREATED:20260328T103800Z
LAST-MODIFIED:20260328T104147Z
UID:7935-1779904800-1779910200@endometriose-oesterreich.at
SUMMARY:Vortrag mit Workshop: Selbstfürsorge – aber wie? am 27.05.2026
DESCRIPTION:„Schau auf dich“ ist oft leichter gesagt als getan.  Wissen\, Empowerment & Tipps für deinen Alltag mit Endometriose. \nVortragende: Mag.a Simone Arlits\, MA \nStarke Schmerzen durch Endometriose können dich in deinem (Arbeits-)Alltag mitunter massiv einschränken. Und doch: Du beißt dich durch. Hast als Frau gelernt zu funkionieren. Vielleicht empfindest du Scham\, weil du schon wieder Schmerzen hast. Vielleicht hast du das Gefühl\, mehr geben zu müssen\, um dich zu beweisen. In diesem Vortrag will ich dich stärken: Du bist ok\, auch wenn du nicht zu 100% funkionierst. Keiner muss das. \nDurch die Schmerzen\, den Druck\, den sich Betroﬀene machen\, den Mental Load und die emotionale Arbeit\, die viele Frauen zusätzlich schultern\, entsteht oft ein hohes Ausmaß an Stress. \nWir schauen uns gemeinsam Stressoren an\, die zum Teil unbewusst wirken\, sowie Möglichkeiten zur Stärkung deiner psychischen Widerstandskraft und du erhältst Tipps für Selbstfürsorge im Alltag\, die leicht umsetzbar und wirksam sind. Im Mittelpunkt dieses Webinars stehen Empowerment\, der Umgang mit Stress und das Fördern von Resilienz. \nAbout me: Ich bin Gründerin von for:rest und diplomierte Resilienz- und Mentaltrainerin sowie Stressmanagerin. Als Resilienz- und Mentaltrainerin zeige ich dir Möglichkeiten\, wie du deine psychische Widerstandskraft und mentale Stärke fördern und dadurch mit Herausforderungen und Belastungen im Alltag besser umgehen kannst. \nAls Stressmanagerin unterstütze ich dich dabei\, Ressourcen gezielt aufzubauen und deine Energie zu schützen sowie eine Balance zwischen Leistungsfähigkeit und Erholung zu finden. Mit praxisnahen Tools gebe ich dir Werkzeuge an die Hand\, mit denen du Stressauslöser frühzeitg erkennst und deinen Alltag gelassener gestaltest. \nMit meinen Klient:innen arbeite ich im Wiener Praxisraum\, online und outdoor zusammen. Eine wichtige Säule meiner Arbeit ist die Natur – sie ist Inspiration und Quelle für nachhaltigen Stressabbau. Ich integriere sie in meine Mentorings und Workshops und verbinde mein Wissen aus dem Waldbaden mit modernem Resilienztraining. Empowerment von Frauen ist mir dabei ein besonderes Anliegen\, da Frauen Stress anders erleben als Männer und häufiger betroﬀen sind. Die Auswirkungen von chronischem Stress habe ich selbst erlebt – mental und körperlich\, nachdem ich über 15 Jahre in der Medien- und Marketingbranche tätig war und als Führungskraft unter hohem Druck stand. Meine Klient:innen begleite ich mit umfangreicher Expertise und persönlicher Erfahrung mit einem ganzheitlich Ansatz – mind\, body & soul – auf ihrem Weg zu mehr Selbstverbundenheit\, Selbstbewusstsein\, Lebensfreude\, Klarheit und Ruhe. \nfor:rest bietet Mentorings\, Workshops und Vorträge für Privatpersonen und Firmen an. \nfor:rest | Mag.a Simone Arlits\, MA \nMail: hello@for-rest.at \nInstagram: @for.rest.mentoring \n 
URL:https://endometriose-oesterreich.at/event/vortrag-mit-workshop-selbstfuersorge-aber-wie-am-27-05-2026/
LOCATION:Online
CATEGORIES:EndÖ Termine
END:VEVENT
END:VCALENDAR