BEGIN:VCALENDAR
VERSION:2.0
PRODID:-//EndÖ - Endometriose Österreich - ECPv6.15.20//NONSGML v1.0//EN
CALSCALE:GREGORIAN
METHOD:PUBLISH
X-ORIGINAL-URL:https://endometriose-oesterreich.at
X-WR-CALDESC:Veranstaltungen für EndÖ - Endometriose Österreich
REFRESH-INTERVAL;VALUE=DURATION:PT1H
X-Robots-Tag:noindex
X-PUBLISHED-TTL:PT1H
BEGIN:VTIMEZONE
TZID:Europe/Vienna
BEGIN:DAYLIGHT
TZOFFSETFROM:+0100
TZOFFSETTO:+0200
TZNAME:CEST
DTSTART:20250330T010000
END:DAYLIGHT
BEGIN:STANDARD
TZOFFSETFROM:+0200
TZOFFSETTO:+0100
TZNAME:CET
DTSTART:20251026T010000
END:STANDARD
BEGIN:DAYLIGHT
TZOFFSETFROM:+0100
TZOFFSETTO:+0200
TZNAME:CEST
DTSTART:20260329T010000
END:DAYLIGHT
BEGIN:STANDARD
TZOFFSETFROM:+0200
TZOFFSETTO:+0100
TZNAME:CET
DTSTART:20261025T010000
END:STANDARD
BEGIN:DAYLIGHT
TZOFFSETFROM:+0100
TZOFFSETTO:+0200
TZNAME:CEST
DTSTART:20270328T010000
END:DAYLIGHT
BEGIN:STANDARD
TZOFFSETFROM:+0200
TZOFFSETTO:+0100
TZNAME:CET
DTSTART:20271031T010000
END:STANDARD
END:VTIMEZONE
BEGIN:VEVENT
DTSTART;TZID=Europe/Vienna:20260321T080000
DTEND;TZID=Europe/Vienna:20260321T200000
DTSTAMP:20260421T093214
CREATED:20251010T074633Z
LAST-MODIFIED:20251116T095752Z
UID:6182-1774080000-1774123200@endometriose-oesterreich.at
SUMMARY:EndÖ Kongress 2026
DESCRIPTION:Anmeldung unter der Registerkarte EndÖ Kongress 2026. \nSo unterschiedlich die Betroffenen durch Schmerzen oder andere Beschwerden in ihrem Alltag betroffen sind\, so breit gefächert stellt sich das Programm an diesem Tag zusammen. \nWir starten den kostenlosen Online-Kongress um 08:00 Uhr mit mehreren Expert:innen. Verschiedene Therapieansätze sowie neue Forschungsergebnisse und Erkenntnisse  werden vorgestellt\, sodass die Teilnehmer:innen einen umfassenden Einblick in diese Erkrankung und neues Wissen gewinnen können. \nAchtung: Es gibt eine begrenzte Teilnehmer:innenzahl. \nWir freuen uns auf einen informativen Tag mit euch!
URL:https://endometriose-oesterreich.at/event/endoe-kongress-2/
LOCATION:Online
CATEGORIES:EndÖ Termine
END:VEVENT
END:VCALENDAR