BEGIN:VCALENDAR
VERSION:2.0
PRODID:-//EndÖ - Endometriose Österreich - ECPv6.15.20//NONSGML v1.0//EN
CALSCALE:GREGORIAN
METHOD:PUBLISH
X-WR-CALNAME:EndÖ - Endometriose Österreich
X-ORIGINAL-URL:https://endometriose-oesterreich.at
X-WR-CALDESC:Veranstaltungen für EndÖ - Endometriose Österreich
REFRESH-INTERVAL;VALUE=DURATION:PT1H
X-Robots-Tag:noindex
X-PUBLISHED-TTL:PT1H
BEGIN:VTIMEZONE
TZID:Europe/Vienna
BEGIN:DAYLIGHT
TZOFFSETFROM:+0100
TZOFFSETTO:+0200
TZNAME:CEST
DTSTART:20250330T010000
END:DAYLIGHT
BEGIN:STANDARD
TZOFFSETFROM:+0200
TZOFFSETTO:+0100
TZNAME:CET
DTSTART:20251026T010000
END:STANDARD
BEGIN:DAYLIGHT
TZOFFSETFROM:+0100
TZOFFSETTO:+0200
TZNAME:CEST
DTSTART:20260329T010000
END:DAYLIGHT
BEGIN:STANDARD
TZOFFSETFROM:+0200
TZOFFSETTO:+0100
TZNAME:CET
DTSTART:20261025T010000
END:STANDARD
BEGIN:DAYLIGHT
TZOFFSETFROM:+0100
TZOFFSETTO:+0200
TZNAME:CEST
DTSTART:20270328T010000
END:DAYLIGHT
BEGIN:STANDARD
TZOFFSETFROM:+0200
TZOFFSETTO:+0100
TZNAME:CET
DTSTART:20271031T010000
END:STANDARD
END:VTIMEZONE
BEGIN:VEVENT
DTSTART;TZID=Europe/Vienna:20260312T180000
DTEND;TZID=Europe/Vienna:20260312T200000
DTSTAMP:20260421T093155
CREATED:20260125T144755Z
LAST-MODIFIED:20260128T105944Z
UID:6971-1773338400-1773345600@endometriose-oesterreich.at
SUMMARY:Austauschtreffen Selbsthilfe Endometriose Tirol am 12.03.2026
DESCRIPTION:Donnerstag\, 12. März um 18 Uhr \n\n\n\n\n\n\nOrt: Dachverband Selbsthilfe\, Innrain 43\, Erdgeschoß\, Innsbruck \n\nDauer: Ca. zwei Stunden. Bleib so lange\, wie es für dich passt \nAnmeldung bei Gudrun per Mail: endo.tirol@gmail.com  \nEine Anmeldung ist erforderlich. Die Teilnahme ist kostenlos. Begrenzte Plätze! \n\n\nUnsere Treffen ermöglichen den persönlichen Austausch unter Betroffenen. Im Vordergrund steht die gegenseitige Unterstützung. Wir reden über unsere Erfahrungen und Sorgen\, über hilfreiche Ansätze und Erfolge. Du kannst deine Fragen stellen oder einfach nur zuhören. Wir freuen uns auf dein Kommen!
URL:https://endometriose-oesterreich.at/event/endometriose-tirol-03-12-26/
CATEGORIES:Andere SHG Termine
END:VEVENT
END:VCALENDAR