BEGIN:VCALENDAR
VERSION:2.0
PRODID:-//EndÖ - Endometriose Österreich - ECPv6.15.20//NONSGML v1.0//EN
CALSCALE:GREGORIAN
METHOD:PUBLISH
X-ORIGINAL-URL:https://endometriose-oesterreich.at
X-WR-CALDESC:Veranstaltungen für EndÖ - Endometriose Österreich
REFRESH-INTERVAL;VALUE=DURATION:PT1H
X-Robots-Tag:noindex
X-PUBLISHED-TTL:PT1H
BEGIN:VTIMEZONE
TZID:Europe/Vienna
BEGIN:DAYLIGHT
TZOFFSETFROM:+0100
TZOFFSETTO:+0200
TZNAME:CEST
DTSTART:20250330T010000
END:DAYLIGHT
BEGIN:STANDARD
TZOFFSETFROM:+0200
TZOFFSETTO:+0100
TZNAME:CET
DTSTART:20251026T010000
END:STANDARD
BEGIN:DAYLIGHT
TZOFFSETFROM:+0100
TZOFFSETTO:+0200
TZNAME:CEST
DTSTART:20260329T010000
END:DAYLIGHT
BEGIN:STANDARD
TZOFFSETFROM:+0200
TZOFFSETTO:+0100
TZNAME:CET
DTSTART:20261025T010000
END:STANDARD
BEGIN:DAYLIGHT
TZOFFSETFROM:+0100
TZOFFSETTO:+0200
TZNAME:CEST
DTSTART:20270328T010000
END:DAYLIGHT
BEGIN:STANDARD
TZOFFSETFROM:+0200
TZOFFSETTO:+0100
TZNAME:CET
DTSTART:20271031T010000
END:STANDARD
END:VTIMEZONE
BEGIN:VEVENT
DTSTART;TZID=Europe/Vienna:20260220T200000
DTEND;TZID=Europe/Vienna:20260221T040000
DTSTAMP:20260421T130805
CREATED:20260205T172947Z
LAST-MODIFIED:20260205T182045Z
UID:7262-1771617600-1771646400@endometriose-oesterreich.at
SUMMARY:Charity Event- Bass for Change am 20.02.2026
DESCRIPTION:Freitag\, 20. Februar 2026 \nClub Lucia \nU-Bahnbögen 24/25 | 1080 Wien \nPay as you wish – alle Einnahmen gehen an EndÖ \nVielen Dank @bass.forchange für euren Support! \n„Bass for Change“ ist ein FLINTA-DJ-Kollektiv aus Wien\, das Clubkultur mit Bewusstseinsarbeit und Charity-Aktionen verbindet.
URL:https://endometriose-oesterreich.at/event/charity-event-bass-for-change/
CATEGORIES:EndÖ Termine
END:VEVENT
END:VCALENDAR