BEGIN:VCALENDAR
VERSION:2.0
PRODID:-//EndÖ - Endometriose Österreich - ECPv6.15.20//NONSGML v1.0//EN
CALSCALE:GREGORIAN
METHOD:PUBLISH
X-WR-CALNAME:EndÖ - Endometriose Österreich
X-ORIGINAL-URL:https://endometriose-oesterreich.at
X-WR-CALDESC:Veranstaltungen für EndÖ - Endometriose Österreich
REFRESH-INTERVAL;VALUE=DURATION:PT1H
X-Robots-Tag:noindex
X-PUBLISHED-TTL:PT1H
BEGIN:VTIMEZONE
TZID:Europe/Vienna
BEGIN:DAYLIGHT
TZOFFSETFROM:+0100
TZOFFSETTO:+0200
TZNAME:CEST
DTSTART:20250330T010000
END:DAYLIGHT
BEGIN:STANDARD
TZOFFSETFROM:+0200
TZOFFSETTO:+0100
TZNAME:CET
DTSTART:20251026T010000
END:STANDARD
BEGIN:DAYLIGHT
TZOFFSETFROM:+0100
TZOFFSETTO:+0200
TZNAME:CEST
DTSTART:20260329T010000
END:DAYLIGHT
BEGIN:STANDARD
TZOFFSETFROM:+0200
TZOFFSETTO:+0100
TZNAME:CET
DTSTART:20261025T010000
END:STANDARD
BEGIN:DAYLIGHT
TZOFFSETFROM:+0100
TZOFFSETTO:+0200
TZNAME:CEST
DTSTART:20270328T010000
END:DAYLIGHT
BEGIN:STANDARD
TZOFFSETFROM:+0200
TZOFFSETTO:+0100
TZNAME:CET
DTSTART:20271031T010000
END:STANDARD
END:VTIMEZONE
BEGIN:VEVENT
DTSTART;TZID=Europe/Vienna:20260217T180000
DTEND;TZID=Europe/Vienna:20260217T190000
DTSTAMP:20260421T145315
CREATED:20260111T004815Z
LAST-MODIFIED:20260111T010208Z
UID:6862-1771351200-1771354800@endometriose-oesterreich.at
SUMMARY:Q&A: Kinderwunsch bei Endometriose am 17.02.2026
DESCRIPTION:Referent:  Priv.-Doz. DDr.Michael Feichtinger\, MBA\, EFRM-ESHRE/EBCOG \nDie Veranstaltung bietet an diesem Abend\, von 18:00 bis 19:00 Uhr\, die Möglichkeit Fragen zum Thema Kinderwunsch bei Endometriose zu stellen. \nPriv.-Doz. DDr. Michael Feichtinger ist Facharzt für Gynäkologie und Geburtshilfe sowie Leitung des Wunschbaby Institut Feichtinger in Wien.
URL:https://endometriose-oesterreich.at/event/qa-kinderwunsch-bei-endometriose-am-17-02-2026/
LOCATION:Online
CATEGORIES:EndÖ Termine
END:VEVENT
END:VCALENDAR