BEGIN:VCALENDAR
VERSION:2.0
PRODID:-//EndÖ - Endometriose Österreich - ECPv6.15.20//NONSGML v1.0//EN
CALSCALE:GREGORIAN
METHOD:PUBLISH
X-ORIGINAL-URL:https://endometriose-oesterreich.at
X-WR-CALDESC:Veranstaltungen für EndÖ - Endometriose Österreich
REFRESH-INTERVAL;VALUE=DURATION:PT1H
X-Robots-Tag:noindex
X-PUBLISHED-TTL:PT1H
BEGIN:VTIMEZONE
TZID:Europe/Vienna
BEGIN:DAYLIGHT
TZOFFSETFROM:+0100
TZOFFSETTO:+0200
TZNAME:CEST
DTSTART:20250330T010000
END:DAYLIGHT
BEGIN:STANDARD
TZOFFSETFROM:+0200
TZOFFSETTO:+0100
TZNAME:CET
DTSTART:20251026T010000
END:STANDARD
BEGIN:DAYLIGHT
TZOFFSETFROM:+0100
TZOFFSETTO:+0200
TZNAME:CEST
DTSTART:20260329T010000
END:DAYLIGHT
BEGIN:STANDARD
TZOFFSETFROM:+0200
TZOFFSETTO:+0100
TZNAME:CET
DTSTART:20261025T010000
END:STANDARD
BEGIN:DAYLIGHT
TZOFFSETFROM:+0100
TZOFFSETTO:+0200
TZNAME:CEST
DTSTART:20270328T010000
END:DAYLIGHT
BEGIN:STANDARD
TZOFFSETFROM:+0200
TZOFFSETTO:+0100
TZNAME:CET
DTSTART:20271031T010000
END:STANDARD
END:VTIMEZONE
BEGIN:VEVENT
DTSTART;TZID=Europe/Vienna:20260204T170000
DTEND;TZID=Europe/Vienna:20260204T190000
DTSTAMP:20260421T145556
CREATED:20251209T235850Z
LAST-MODIFIED:20251209T235931Z
UID:6640-1770224400-1770231600@endometriose-oesterreich.at
SUMMARY:Das Endometriose-Zentrum Hall stellt sich vor - 4.02.2026
DESCRIPTION:Wann: Mittwoch\, 4. Februar 2026 um 17 Uhr\n\n\n\n\n\n\nOrt:  LKH Hall\, Milser Straße 10\, Hall in Tirol. Chirurgiegebäude\, Haus 14\, Erdgeschoß. Treffpunkt beim Hauseingang. Gut mit den Öffis erreichbar\, Parkmöglichkeit in der Tiefgarage\nDauer: Etwa 2 Stunden\nMit: Primar Univ. Prof. DDr. Peter Widschwendter\, Oberärztin Dr.in Caroline Rhomberg\, Oberärztin Dr.in Anna Wimmer\, Oberärztin Dr.in Lubica Kopcova und Assistenzarzt Dr. Marco Lengauer\nVeranstaltet von: Endometriose-Zentrum Hall und Selbsthilfe Endometriose Tirol\n\nAnmeldung: Die Veranstaltung richtet sich an Betroffene von Endometriose/Adenomyose sowie an Frauen\, bei denen ein Verdacht besteht. Eine Anmeldung ist erforderlich: endo.tirol@gmail.com (Gudrun). Begrenzte Plätze!\n\n\n\n\nWir lernen das Endometriose-Zentrum Hall in Tirol aus nächster Nähe kennen! Das Zentrum bietet mit dem endo8-Programm ein einzigartiges ganzheitliches Therapiekonzept\, das die Expertise von acht medizinischen Fachbereichen vereint und auch komplementäre Behandlungsmethoden integriert. Bei einem geführten Rundgang erhalten wir Einblicke in die Arbeitsweise und in die Atmosphäre der modernen Räumlichkeiten. Abschließend haben wir die Möglichkeit\, in einer offenen Fragerunde direkt mit den Expert*innen ins Gespräch zu kommen. Egal ob du bereits Patientin bist und mehr erfahren möchtest\, oder ob du noch auf den ersten Termin wartest oder einfach neugierig bist: Wir freuen uns auf dein Kommen!\nBitte beachte\, dass es sich um eine Informationsveranstaltung handelt und keine individuellen Beratungen möglich sind.
URL:https://endometriose-oesterreich.at/event/endozentrum-hall/
LOCATION:LKH Hall\, Milser Straße 10\, Hall\, Tirol\, 6060\, Austria
CATEGORIES:Andere SHG Termine
END:VEVENT
END:VCALENDAR