BEGIN:VCALENDAR
VERSION:2.0
PRODID:-//EndÖ - Endometriose Österreich - ECPv6.15.20//NONSGML v1.0//EN
CALSCALE:GREGORIAN
METHOD:PUBLISH
X-WR-CALNAME:EndÖ - Endometriose Österreich
X-ORIGINAL-URL:https://endometriose-oesterreich.at
X-WR-CALDESC:Veranstaltungen für EndÖ - Endometriose Österreich
REFRESH-INTERVAL;VALUE=DURATION:PT1H
X-Robots-Tag:noindex
X-PUBLISHED-TTL:PT1H
BEGIN:VTIMEZONE
TZID:Europe/Vienna
BEGIN:DAYLIGHT
TZOFFSETFROM:+0100
TZOFFSETTO:+0200
TZNAME:CEST
DTSTART:20240331T010000
END:DAYLIGHT
BEGIN:STANDARD
TZOFFSETFROM:+0200
TZOFFSETTO:+0100
TZNAME:CET
DTSTART:20241027T010000
END:STANDARD
BEGIN:DAYLIGHT
TZOFFSETFROM:+0100
TZOFFSETTO:+0200
TZNAME:CEST
DTSTART:20250330T010000
END:DAYLIGHT
BEGIN:STANDARD
TZOFFSETFROM:+0200
TZOFFSETTO:+0100
TZNAME:CET
DTSTART:20251026T010000
END:STANDARD
BEGIN:DAYLIGHT
TZOFFSETFROM:+0100
TZOFFSETTO:+0200
TZNAME:CEST
DTSTART:20260329T010000
END:DAYLIGHT
BEGIN:STANDARD
TZOFFSETFROM:+0200
TZOFFSETTO:+0100
TZNAME:CET
DTSTART:20261025T010000
END:STANDARD
END:VTIMEZONE
BEGIN:VEVENT
DTSTART;TZID=Europe/Vienna:20251202T183000
DTEND;TZID=Europe/Vienna:20251202T203000
DTSTAMP:20260421T180511
CREATED:20250104T091230Z
LAST-MODIFIED:20250926T085303Z
UID:3777-1764700200-1764707400@endometriose-oesterreich.at
SUMMARY:Selbsthilfegruppe EndoPower.Wien am 02.12.2025
DESCRIPTION:Wir treffen uns jeden zweiten Monat am ersten Dienstag um 18.30 Uhr.\nDauer: ca. 2 Stunden\nDie Locations geben wir auf der Homepage bekannt: https://endopower-wien.at/\nFür Anmeldungen zu Gruppentreffen in Wien schreibe bitte an: endopower.wien@gmail.com
URL:https://endometriose-oesterreich.at/event/selbsthilfegruppe-endopower-wien-5/
CATEGORIES:Andere SHG Termine
END:VEVENT
END:VCALENDAR