BEGIN:VCALENDAR
VERSION:2.0
PRODID:-//EndÖ - Endometriose Österreich - ECPv6.15.20//NONSGML v1.0//EN
CALSCALE:GREGORIAN
METHOD:PUBLISH
X-WR-CALNAME:EndÖ - Endometriose Österreich
X-ORIGINAL-URL:https://endometriose-oesterreich.at
X-WR-CALDESC:Veranstaltungen für EndÖ - Endometriose Österreich
REFRESH-INTERVAL;VALUE=DURATION:PT1H
X-Robots-Tag:noindex
X-PUBLISHED-TTL:PT1H
BEGIN:VTIMEZONE
TZID:Europe/Vienna
BEGIN:DAYLIGHT
TZOFFSETFROM:+0100
TZOFFSETTO:+0200
TZNAME:CEST
DTSTART:20240331T010000
END:DAYLIGHT
BEGIN:STANDARD
TZOFFSETFROM:+0200
TZOFFSETTO:+0100
TZNAME:CET
DTSTART:20241027T010000
END:STANDARD
BEGIN:DAYLIGHT
TZOFFSETFROM:+0100
TZOFFSETTO:+0200
TZNAME:CEST
DTSTART:20250330T010000
END:DAYLIGHT
BEGIN:STANDARD
TZOFFSETFROM:+0200
TZOFFSETTO:+0100
TZNAME:CET
DTSTART:20251026T010000
END:STANDARD
BEGIN:DAYLIGHT
TZOFFSETFROM:+0100
TZOFFSETTO:+0200
TZNAME:CEST
DTSTART:20260329T010000
END:DAYLIGHT
BEGIN:STANDARD
TZOFFSETFROM:+0200
TZOFFSETTO:+0100
TZNAME:CET
DTSTART:20261025T010000
END:STANDARD
END:VTIMEZONE
BEGIN:VEVENT
DTSTART;TZID=Europe/Vienna:20250711T170000
DTEND;TZID=Europe/Vienna:20250711T183000
DTSTAMP:20260422T021006
CREATED:20250512T144351Z
LAST-MODIFIED:20250516T215824Z
UID:4945-1752253200-1752258600@endometriose-oesterreich.at
SUMMARY:Endo-Nurse Talk mit Lena Hofmann MSc.\, Charité Berlin 11.07.2025
DESCRIPTION:Endo-Nurse Talk\nReferentin: Lena Hofmann MSc.\, Charité Berlin \nDie Rolle der Endometriose-Nurse: Unterstützung auf dem Weg zu einer ganzheitlichen Behandlung \nIch bin examinierte Gesundheits- und Krankenpflegerin mit einem Master of Science inPflegewissenschaft und habe in verschiedenen Bereichen wie der Inneren Medizin\, Chirurgie und Gynäkologie gearbeitet. In meiner Masterarbeit habe ich mich damit beschäftigt\, welche pflegerischen Beratungs- und Handlungsangebote für Frauen mit Endometriose besonders wichtig sind. Als Pflegewissenschaftlerin ist es mir sehr wichtig\, eine evidenzbasierte Beratung anzubieten – das bedeutet\, dass ich mich auf wissenschaftliche Erkenntnisse stütze\, um die bestmögliche Unterstützung zu gewährleisten. Gleichzeitig liegt mir auch viel daran\, Frauen als auch ihre Partner:innen mit Endometriose emotional zu unterstützen und für ihre individuellen Bedürfnisse da zu sein. Mein Ziel ist es\, dass sich jede Patientin gut informiert und begleitet fühlt\, während wir gemeinsam Lösungen finden\, mit der chronischen Erkrankung den Alltag zu erleichtern. \nProgramm: \n– Einführung in die Rolle der Endometriose-Nurse\, Aufgaben und Tätigkeitsfelder\n– Zusammenarbeit im interdisziplinären Team -Individuelle Betreuung und Beratung\n– Unterstützung für Patientinnen im stationären Setting\n– Fragen und Austausch
URL:https://endometriose-oesterreich.at/event/endo-nurse-talk-mit-lena-hofmann-charite-berlin-11-07-2025/
LOCATION:Online
CATEGORIES:EndÖ Termine
END:VEVENT
END:VCALENDAR