BEGIN:VCALENDAR
VERSION:2.0
PRODID:-//EndÖ - Endometriose Österreich - ECPv6.15.20//NONSGML v1.0//EN
CALSCALE:GREGORIAN
METHOD:PUBLISH
X-ORIGINAL-URL:https://endometriose-oesterreich.at
X-WR-CALDESC:Veranstaltungen für EndÖ - Endometriose Österreich
REFRESH-INTERVAL;VALUE=DURATION:PT1H
X-Robots-Tag:noindex
X-PUBLISHED-TTL:PT1H
BEGIN:VTIMEZONE
TZID:Europe/Vienna
BEGIN:DAYLIGHT
TZOFFSETFROM:+0100
TZOFFSETTO:+0200
TZNAME:CEST
DTSTART:20240331T010000
END:DAYLIGHT
BEGIN:STANDARD
TZOFFSETFROM:+0200
TZOFFSETTO:+0100
TZNAME:CET
DTSTART:20241027T010000
END:STANDARD
BEGIN:DAYLIGHT
TZOFFSETFROM:+0100
TZOFFSETTO:+0200
TZNAME:CEST
DTSTART:20250330T010000
END:DAYLIGHT
BEGIN:STANDARD
TZOFFSETFROM:+0200
TZOFFSETTO:+0100
TZNAME:CET
DTSTART:20251026T010000
END:STANDARD
BEGIN:DAYLIGHT
TZOFFSETFROM:+0100
TZOFFSETTO:+0200
TZNAME:CEST
DTSTART:20260329T010000
END:DAYLIGHT
BEGIN:STANDARD
TZOFFSETFROM:+0200
TZOFFSETTO:+0100
TZNAME:CET
DTSTART:20261025T010000
END:STANDARD
END:VTIMEZONE
BEGIN:VEVENT
DTSTART;TZID=Europe/Vienna:20250709T180000
DTEND;TZID=Europe/Vienna:20250709T193000
DTSTAMP:20260422T021300
CREATED:20241110T121332Z
LAST-MODIFIED:20250707T153438Z
UID:3452-1752084000-1752089400@endometriose-oesterreich.at
SUMMARY:Austauschtreffen 09.07.2025
DESCRIPTION:Terminverschiebung vom 8.07. auf 9.07.2025 \nUnsere Online-Austauschtreffen konzentrieren sich auf den Austausch über Sorgen\, Probleme aber auch hilfreiche Ansätze und Erfolge. Jeder Beitrag ist wertvoll! Du hast die Möglichkeit\, Fragen zu stellen und deine persönliche Geschichte zu teilen. Nutze diese Gelegenheit\, um alles anzusprechen\, was dir auf dem Herzen liegt. \nBitte betrachte deine Anmeldung als verbindlich! Solltest du doch nicht teilnehmen können\, so bitten wir dich\, dass du uns rechtzeitig informierst. \n  \n 
URL:https://endometriose-oesterreich.at/event/austauschtreffen-6/
LOCATION:Online
CATEGORIES:EndÖ Termine
END:VEVENT
BEGIN:VEVENT
DTSTART;TZID=Europe/Vienna:20250709T183000
DTEND;TZID=Europe/Vienna:20250709T203000
DTSTAMP:20260422T021300
CREATED:20250516T083340Z
LAST-MODIFIED:20250530T115827Z
UID:4992-1752085800-1752093000@endometriose-oesterreich.at
SUMMARY:Ätherische Öle als Seelenschmeichler am 09.07.2025
DESCRIPTION:Mit: Bea Holzmann\, Aromapraktikerin und Kinesiologin\n\n\nOrt: Dachverband Selbsthilfe\, Innrain 43\, Erdgeschoß\, Innsbruck\n\nDauer: ca. 2 Stunden\n\nAnmeldung: Der Workshop wird von der Selbsthilfe Endometriose Tirol veranstaltet und richtet sich ausschließlich an Betroffene. Eine Anmeldung ist unbedingt erforderlich: endo.tirol@gmail.com (Gudrun). Begrenzte Plätze!\n \nÄtherische Öle wirken wie liebevolle Seelenschmeichler – besonders in belastenden oder herausfordernden Phasen des Frauseins. Sie schenken innere Ruhe\, stärken das emotionale Gleichgewicht und helfen\, wieder in Verbindung mit sich selbst zu kommen. An diesem duftvollen Abend erfährst du\, wie Aromen auf seelischer Ebene unterstützen und mehr Leichtigkeit schenken können. Abgerundet wird der Abend durch eine entspannende Duftreise.
URL:https://endometriose-oesterreich.at/event/aetherische-oele-als-seelenschmeichler/
LOCATION:Dachverband Selbsthilfe Innsbruck\, Innrain 43\, Innsbruck\, Tirol\, 6020\, Österreich
CATEGORIES:Andere SHG Termine
END:VEVENT
END:VCALENDAR