BEGIN:VCALENDAR
VERSION:2.0
PRODID:-//EndÖ - Endometriose Österreich - ECPv6.15.20//NONSGML v1.0//EN
CALSCALE:GREGORIAN
METHOD:PUBLISH
X-WR-CALNAME:EndÖ - Endometriose Österreich
X-ORIGINAL-URL:https://endometriose-oesterreich.at
X-WR-CALDESC:Veranstaltungen für EndÖ - Endometriose Österreich
REFRESH-INTERVAL;VALUE=DURATION:PT1H
X-Robots-Tag:noindex
X-PUBLISHED-TTL:PT1H
BEGIN:VTIMEZONE
TZID:Europe/Vienna
BEGIN:DAYLIGHT
TZOFFSETFROM:+0100
TZOFFSETTO:+0200
TZNAME:CEST
DTSTART:20240331T010000
END:DAYLIGHT
BEGIN:STANDARD
TZOFFSETFROM:+0200
TZOFFSETTO:+0100
TZNAME:CET
DTSTART:20241027T010000
END:STANDARD
BEGIN:DAYLIGHT
TZOFFSETFROM:+0100
TZOFFSETTO:+0200
TZNAME:CEST
DTSTART:20250330T010000
END:DAYLIGHT
BEGIN:STANDARD
TZOFFSETFROM:+0200
TZOFFSETTO:+0100
TZNAME:CET
DTSTART:20251026T010000
END:STANDARD
BEGIN:DAYLIGHT
TZOFFSETFROM:+0100
TZOFFSETTO:+0200
TZNAME:CEST
DTSTART:20260329T010000
END:DAYLIGHT
BEGIN:STANDARD
TZOFFSETFROM:+0200
TZOFFSETTO:+0100
TZNAME:CET
DTSTART:20261025T010000
END:STANDARD
END:VTIMEZONE
BEGIN:VEVENT
DTSTART;TZID=Europe/Vienna:20250429T180000
DTEND;TZID=Europe/Vienna:20250429T190000
DTSTAMP:20260422T050715
CREATED:20250109T073958Z
LAST-MODIFIED:20250301T174552Z
UID:3875-1745949600-1745953200@endometriose-oesterreich.at
SUMMARY:Vortrag und Q&A: Adenomyose am 29.04.2025
DESCRIPTION:Referent: Prim. Univ.-Prof. Dr. Jörg Keckstein \nWährend der Begriff „Endometriose“ immer bekannter wird\, ist Adenomyose weiterhin eine weniger bekannte Diagnose. Der April widmet sich der Aufklärung über diese Erkrankung – Sie kann sowohl allein als auch gemeinsam mit Endometriose auftreten – und wir möchten unseren Teil dazu beitragen. \nAn diesem Abend\, von 18:00 bis 19:00 Uhr\, informiert uns in einem Vortrag Prim. Univ.-Prof. Dr. J. Keckstein rund um Adenomyose. Anschließend besteht die Möglichkeit Fragen zu stellen.
URL:https://endometriose-oesterreich.at/event/vortrag-und-qa-adenomyose-am-29-04-2025/
LOCATION:Online
CATEGORIES:EndÖ Termine
END:VEVENT
END:VCALENDAR